BEGIN:VCALENDAR
VERSION:2.0
PRODID:-//ChamberMaster//Event Calendar 2.0//EN
METHOD:PUBLISH
X-PUBLISHED-TTL:P3D
REFRESH-INTERVAL:P3D
CALSCALE:GREGORIAN
BEGIN:VEVENT
DTSTART;VALUE=DATE:20190206
DTEND;VALUE=DATE:20190211
TRANSP:TRANSPARENT
X-MICROSOFT-CDO-ALLDAYEVENT:TRUE
SUMMARY:16th Annual Oxford Film Festival
DESCRIPTION:The Oxford Film Festival celebrates the art of independent cinema. Through year round programming\, the festival works to encourage filmmaking in Oxford and North Mississippi while growing understanding of cinema through screenings\, workshops and educational programs\, culminating in the annual five day festival.
X-ALT-DESC;FMTTYPE=text/html:<span style="color: rgb(59\, 59\, 59)\; font-family: georgia\,serif\; font-size: 15px\;">The Oxford Film Festival celebrates the art of independent cinema. Through year round programming\, the festival works to encourage filmmaking in Oxford and North Mississippi while growing understanding of cinema through screenings\, workshops and educational programs\, culminating in the annual five day festival.&nbsp\;</span>
LOCATION:Powerhouse Community Arts Center (413 South 14th Street) - Wednesday Noon-8 pm\, Thursday 9 am to 3 pm Gertrude C. Ford Center for the Performing Arts (351 University Avenue) Thursday - 4 - 9 pm Malco Commons (206 Commonwealth Blvd) Friday-Sunday 9 am to clo
UID:e.1330.3072
SEQUENCE:3
DTSTAMP:20260424T160404Z
URL:https://business.oxfordms.com/events/details/16th-annual-oxford-film-festival-02-06-2019-3072
END:VEVENT

END:VCALENDAR
