BEGIN:VCALENDAR
VERSION:2.0
PRODID:-//ChamberMaster//Event Calendar 2.0//EN
METHOD:PUBLISH
X-PUBLISHED-TTL:P3D
REFRESH-INTERVAL:P3D
CALSCALE:GREGORIAN
BEGIN:VEVENT
DTSTART:20190204T160000Z
DTEND:20190303T200000Z
X-MICROSOFT-CDO-ALLDAYEVENT:FALSE
SUMMARY:2019 Frances McEwen Library Show
DESCRIPTION:Members of the Oxford Artists' Guild present the annual Frances McEwen Library show.  Over 50 works are on display and for sale at the Oxford Lafayette Public Library.  Works may be viewed during regular library hours now through March 3.
X-ALT-DESC;FMTTYPE=text/html:<h2><span style="font-family: verdana\;">Members of the Oxford Artists&#39\; Guild present the annual Frances McEwen Library show.&nbsp\; Over 50 works are on display and for sale at the Oxford Lafayette Public Library.&nbsp\; Works may be viewed during regular library hours now through March 3.</span></h2>\n
LOCATION:
UID:e.1330.3075
SEQUENCE:3
DTSTAMP:20260424T144349Z
URL:https://business.oxfordms.com/events/details/2019-frances-mcewen-library-show-02-04-2019-3075
END:VEVENT

END:VCALENDAR
