BEGIN:VCALENDAR
VERSION:2.0
PRODID:-//ChamberMaster//Event Calendar 2.0//EN
METHOD:PUBLISH
X-PUBLISHED-TTL:P3D
REFRESH-INTERVAL:P3D
CALSCALE:GREGORIAN
BEGIN:VEVENT
DTSTART:20220423T113000Z
DTEND:20220423T150000Z
X-MICROSOFT-CDO-ALLDAYEVENT:FALSE
SUMMARY:25th Anniversary Double Decker Spring Run
DESCRIPTION:Oxford-Lafayette County Chamber of Commerce\n\n25th Double Decker Spring Run Sponsorship Information\n\n \n\nPlans are underway for the 25th Annual Double Decker Spring Run\, sponsored by the Oxford-Lafayette County Chamber of Commerce.  This year's 10K Run\, 5K Run\, and Kids Fun Run are scheduled for April 23rd\, and we want you to be involved!  \n\n \n\nThe Double Decker Spring Run is proud to partner with Oxford Ortho & Sports Medicine as our new exclusive presenting sponsor for our 25th anniversary event!  Our race has grown to over 1\,700 racers last year who came to Oxford from all around the region\, and we expect that number to continue to climb this year.  The Oxford-Lafayette County Chamber of Commerce is excited to once again partner with Start2Finish to bring you this year's race.   Start2Finish is the premier health-oriented event management company in the Mid-South. S2F takes pride in producing events that allow Mid-South residents and area visitors the opportunity to challenge themselves\, achieve goals and most importantly have fun!  With their assistance\, and our ready team of volunteers\, this year's Double Decker Spring Run is sure to be fun for the whole family.\n\n\n\nFor more information on the race or to register go to www.doubledeckerspringrun.com now!\n\n \n\nIf you are interested in getting involved on any of the following levels\,\n\nplease contact Pam Swain at pam@oxfordms.com \n\n\n\nPlease note the earlier your sponsorship is confirmed\, the sooner your benefits and promotion will begin.  So to get the most out of your sponsorship dollars - commit early! :)
X-ALT-DESC;FMTTYPE=text/html:<strong><u><span style="font-size: 14pt\;"><span style="font-family: trebuchet ms\,sans-serif\;"><span style="color: rgb(213\, 44\, 42)\;">Oxford-Lafayette County Chamber of Commerce</span></span></span></u></strong><br />\n<strong><u><span style="font-size: 14pt\;"><span style="font-family: trebuchet ms\,sans-serif\;"><span style="color: rgb(213\, 44\, 42)\;">25th Double Decker Spring Run Sponsorship Information</span></span></span></u></strong><br />\n&nbsp\;<br />\n<span style="font-family: trebuchet ms\,sans-serif\;"><span style="color: black\;"><span style="font-size: medium\;">Plans are underway for the 25th Annual Double Decker Spring Run\, sponsored by the Oxford-Lafayette County Chamber of Commerce.&nbsp\; This year&#39\;s 10K Run\, 5K Run\, and Kids Fun Run are scheduled for April 23rd\, and we want you to be involved! &nbsp\;</span></span></span><br />\n&nbsp\;<br />\n<span style="font-family: trebuchet ms\,sans-serif\;"><span style="color: black\;"><span style="font-size: medium\;">The Double Decker Spring Run is proud to partner with Oxford Ortho &amp\; Sports Medicine as our </span></span></span><span style="font-size:16px\;"><span style="font-family: Lato\, sans-serif\;">new exclusive presenting sponsor for our 25th anniversary event</span></span><span style="font-family: trebuchet ms\,sans-serif\;"><span style="font-size: medium\;">!&nbsp\;</span><span style="color: black\;"><span style="font-size: medium\;"> Our race has grown to over 1\,700 racers last year who came to Oxford from all around the region\, and we expect that number to continue to climb this year.&nbsp\; The Oxford-Lafayette County Chamber of Commerce is excited to once again partner with Start2Finish to bring you this year&#39\;s race. &nbsp\; Start2Finish is the premier health-oriented event management company in the Mid-South. S2F takes pride in producing events that allow Mid-South residents and area visitors the opportunity to challenge themselves\, achieve goals and most importantly have fun!&nbsp\; With their assistance\, and our ready team of volunteers\, this year&#39\;s Double Decker Spring Run is sure to be fun for the whole family.</span></span></span><br />\n<br />\n<span style="font-family: trebuchet ms\,sans-serif\;"><span style="color: black\;"><span style="font-size: medium\;">For more information on the race or to register go to </span><a href="http://www.doubledeckerspringrun.com/" shape="rect"><span style="font-size: medium\;"><span style="color: rgb(0\, 0\, 255)\;">www.doubledeckerspringrun.com</span></span></a><span style="font-size: medium\;"> now!</span></span></span><br />\n&nbsp\;<br />\n<span style="font-family: trebuchet ms\,sans-serif\;"><span style="color: black\;"><span style="font-size: medium\;">If you are interested in getting involved on any of the following levels\,</span><br />\n<span style="font-size: medium\;">please contact Pam Swain at </span><a href="mailto:pam@oxfordms.com" shape="rect"><span style="font-size: medium\;"><span style="color: rgb(0\, 0\, 255)\;">pam@oxfordms.com</span></span></a>&nbsp\;</span></span><br />\n<br />\n<span style="font-family: trebuchet ms\,sans-serif\;"><span style="color: black\;"><span style="font-size: medium\;">Please note the earlier your sponsorship is confirmed\, the sooner your benefits and promotion will begin.&nbsp\; So to get the most out of your sponsorship dollars - commit early! :)&nbsp\;</span></span></span><br />\n<br />\n&nbsp\;
LOCATION:Midtown Shopping Center ( Where the YMCA is located) 703 N. Lamar
UID:e.1330.4144
SEQUENCE:3
DTSTAMP:20260421T165642Z
URL:https://business.oxfordms.com/events/details/25th-anniversary-double-decker-spring-run-4144
END:VEVENT

END:VCALENDAR
