BEGIN:VCALENDAR
VERSION:2.0
PRODID:-//ChamberMaster//Event Calendar 2.0//EN
METHOD:PUBLISH
X-PUBLISHED-TTL:P3D
REFRESH-INTERVAL:P3D
CALSCALE:GREGORIAN
BEGIN:VEVENT
DTSTART:20190702T233000Z
DTEND:20190705T020000Z
X-MICROSOFT-CDO-ALLDAYEVENT:FALSE
SUMMARY:4th of July Family Activities
DESCRIPTION:LOU 4th of JULY CELEBRATION!\n\nJuly 2nd\n\n\n	6:30 p.m. Non-Denominational Worship Service at Paris-Yates Chapel\n\nJuly 3rd \n\n\n	7-9 p.m. Street Dance on the Square\n\n\nThursday\, July 4th\n\n\n	7:30 a.m.: Freedom 5k & Family Fun Run to benefit MS Critterz \n	8:30 a.m.: Fun Run\n	9:30 a.m.: LOU 4th of July Children's Parade on the Square\, lineup begins at 9 a.m. by Something Southern. Sponsored by Josh Hawkins for State Representative \n	4 p.m.- Activities in the Grove at Ole Miss\n	\n		Activities include: Children's Area\, Music\, Petting Zoo\, Pony rides\, Train Rides\, Bounceys\, Face Painting\, Balloons.  Refreshments will be available.  \n	\n	\n	4-5 p.m. LOU Community Band\n	5:30 p.m. Lil' Mr. & Miss Firecracker Independence Day Pageant\n	6:30 p.m.: Independence Day Ceremony in the Grove honoring our local service men and women\n	7-8:15 p.m. Music in the Grove \n	9 p.m. (Nightfall): Fireworks Presentation over Oxford-University Stadium-Swayze Field.  Premium Stadium Seats Available for $2 each\, no coolers please.  Gates to stadium open at 7:30 p.m.  Refreshments will be available.\n\n\nThe LOU 4th of July Committee is presented by the Oxford-Lafayette County Chamber of Commerce and sponsored By City of Oxford\, The University of Mississippi\, Family Crisis Services of Northwest MS\, Olin-Winchester and MaxxSouth. Josh Hawkins for State Representative.
X-ALT-DESC;FMTTYPE=text/html:<h3><strong><span style="font-size:14px\;"><span style="color:#FF0000\;">LOU 4th of JULY&nbsp\;CELEBRATION!</span></span><br />\n<span style="font-size:16px\;">July 2nd</span></strong></h3>\n\n<ul>\n	<li><span style="font-size:12px\;">6:30 p.m. <strong>Non-Denominational Worship Service</strong> at Paris-Yates Chapel</span></li>\n</ul>\n<span style="font-size:14px\;"><strong><span style="font-size:16px\;">July 3rd</span>&nbsp\;</strong></span>\n\n<ul>\n	<li><span style="font-size:14px\;"><span style="font-size:12px\;">7-9 p.m. <strong>Street Dance on the Square</strong></span></span></li>\n</ul>\n\n<h3><strong>Thursday\, July 4th</strong></h3>\n\n<ul>\n	<li>7:30&nbsp\;a.m.:<font color="#0066cc"><span style="caret-color: rgb(0\, 102\, 204)\;">&nbsp\;<a href="http://mscritterz.com">Freedom 5k &amp\; Family Fun Run</a>&nbsp\;</span></font>to benefit MS Critterz&nbsp\;</li>\n	<li>8:30 a.m.: <strong>Fun Run</strong></li>\n	<li>9:30&nbsp\;a.m.:&nbsp\;<strong>LOU 4th of July Children&rsquo\;s Parade on the Square\,</strong> lineup begins at 9 a.m. by Something Southern. Sponsored by Josh Hawkins for State Representative&nbsp\;</li>\n	<li>4 p.m.- <strong>Activities in the Grove at Ole Miss</strong>\n	<ul>\n		<li>Activities include: Children&rsquo\;s Area\,&nbsp\;Music\, Petting Zoo\, Pony rides\, Train Rides\, Bounceys\,&nbsp\;Face Painting\,&nbsp\;Balloons.&nbsp\; Refreshments will be available.&nbsp\;&nbsp\;</li>\n	</ul>\n	</li>\n	<li>4-5 p.m. <strong>LOU Community Band</strong></li>\n	<li>5:30 p.m. <strong>Lil&#39\; Mr. &amp\; Miss Firecracker Independence Day Pageant</strong></li>\n	<li>6:30&nbsp\;p.m.: <strong>Independence Day&nbsp\;Ceremony</strong> in the Grove honoring our local service men and women</li>\n	<li>7-8:15 p.m. <strong>Music in the Grove</strong>&nbsp\;</li>\n	<li>9 p.m. (Nightfall): <strong>Fireworks</strong> Presentation over&nbsp\;Oxford-University Stadium-Swayze Field.&nbsp\; Premium Stadium Seats Available for $2 each\, no coolers please.&nbsp\; Gates to stadium open at 7:30 p.m.&nbsp\; Refreshments will be available.</li>\n</ul>\n\n<p>The LOU 4th of July Committee is presented by the <strong>Oxford-Lafayette County Chamber of Commerce and sponsored By City of Oxford\, The University of Mississippi\, Family Crisis Services of Northwest MS\, Olin-Winchester and MaxxSouth. Josh Hawkins for State&nbsp\;Representative.</strong></p>\n
LOCATION:Non-Denominational Worship Service at Paris-Yates Chapel Freedom 5K & Family Fun Run and Children's Parade all on the Square Activities & Independence Day Ceremony in the Grove Fireworks Oxford-University Stadium-Swayze Field.
UID:e.1330.3114
SEQUENCE:3
DTSTAMP:20260424T071813Z
URL:https://business.oxfordms.com/events/details/4th-of-july-family-activities-07-02-2019-3114
END:VEVENT

END:VCALENDAR
