BEGIN:VCALENDAR
VERSION:2.0
PRODID:-//ChamberMaster//Event Calendar 2.0//EN
METHOD:PUBLISH
X-PUBLISHED-TTL:P3D
REFRESH-INTERVAL:P3D
CALSCALE:GREGORIAN
BEGIN:VEVENT
DTSTART:20200118T163000Z
DTEND:20200118T210000Z
X-MICROSOFT-CDO-ALLDAYEVENT:FALSE
SUMMARY:Adoption Day at Hollywood Feed
DESCRIPTION:With your help\, we can save homeless animals. Mississippi Critterz\, the local no kill animal shelter\, is presenting a small selection of easy to fall in love cats and dogs available for adoption. We understand families and individuals have different needs\, ask us how we can help to find you a matching companion.
X-ALT-DESC;FMTTYPE=text/html:With your help\, we can save homeless animals. Mississippi Critterz\, the local no kill animal shelter\, is presenting a small selection of easy to fall in love cats and dogs available for adoption. We understand families and individuals have different needs\, ask us how we can help to find you a matching companion.
LOCATION:Hollywood Feed 2210 Jackson Ave W Oxford\, MS 38655
UID:e.1330.3160
SEQUENCE:3
DTSTAMP:20260424T043507Z
URL:https://business.oxfordms.com/events/details/adoption-day-at-hollywood-feed-01-18-2020-3160
END:VEVENT

END:VCALENDAR
