BEGIN:VCALENDAR
VERSION:2.0
PRODID:-//ChamberMaster//Event Calendar 2.0//EN
METHOD:PUBLISH
X-PUBLISHED-TTL:P3D
REFRESH-INTERVAL:P3D
CALSCALE:GREGORIAN
BEGIN:VEVENT
DTSTART:20200111T163000Z
DTEND:20200111T210000Z
X-MICROSOFT-CDO-ALLDAYEVENT:FALSE
SUMMARY:Adoption Day at Petsmart
DESCRIPTION:With your help\, we can save homeless animals. Mississippi Critterz\, the local no-kill animal shelter\, is presenting a small selection of easy to fall in love cats and dogs available for adoption. We understand families and individuals have different needs\, ask us how we can help to find you a matching companion.
X-ALT-DESC;FMTTYPE=text/html:With your help\, we can save homeless animals. Mississippi Critterz\, the local no-kill animal shelter\, is presenting a small selection of easy to fall in love cats and dogs available for adoption. We understand families and individuals have different needs\, ask us how we can help to find you a matching companion.
LOCATION:2303 Jackson Ave W\, Oxford\, MS 38655
UID:e.1330.3159
SEQUENCE:3
DTSTAMP:20260424T005204Z
URL:https://business.oxfordms.com/events/details/adoption-day-at-petsmart-01-11-2020-3159
END:VEVENT

END:VCALENDAR
