BEGIN:VCALENDAR
VERSION:2.0
PRODID:-//ChamberMaster//Event Calendar 2.0//EN
METHOD:PUBLISH
X-PUBLISHED-TTL:P3D
REFRESH-INTERVAL:P3D
CALSCALE:GREGORIAN
BEGIN:VEVENT
DTSTART:20170824T163000Z
DTEND:20170824T170000Z
X-MICROSOFT-CDO-ALLDAYEVENT:FALSE
SUMMARY:Anytime Fitness 10th Anniversary Ribbon Cutting Ceremony
DESCRIPTION:Anytime Fitness will celebrate their 10 th Anniversary in Oxford with a Ribbon Cutting Ceremony hosted by the Oxford-Lafayette County Chamber. If you're looking to join a supportive\, welcoming gym community\, with people of all fitness levels who want to see you succeed\, you've come to the right place.
X-ALT-DESC;FMTTYPE=text/html:Anytime Fitness will celebrate their 10 th Anniversary in Oxford with a&nbsp\;Ribbon Cutting Ceremony hosted by the Oxford-Lafayette County Chamber. If you&#39\;re looking to join a supportive\, welcoming gym community\, with people of all fitness levels who want to see you succeed\, you&#39\;ve come to the right place.
LOCATION:2134 Jackson Avenue West\, Oxford
UID:e.1330.1786
SEQUENCE:3
DTSTAMP:20260425T213407Z
URL:https://business.oxfordms.com/events/details/anytime-fitness-10th-anniversary-ribbon-cutting-ceremony-08-24-2017-1786
END:VEVENT

END:VCALENDAR
