BEGIN:VCALENDAR
VERSION:2.0
PRODID:-//ChamberMaster//Event Calendar 2.0//EN
METHOD:PUBLISH
X-PUBLISHED-TTL:P3D
REFRESH-INTERVAL:P3D
CALSCALE:GREGORIAN
BEGIN:VEVENT
DTSTART:20171130T160000Z
DTEND:20171130T163000Z
X-MICROSOFT-CDO-ALLDAYEVENT:FALSE
SUMMARY:ARCHIVE Oxford Ribbon Cutting Ceremony
DESCRIPTION:ARCHIVE Oxford will celebrate their new business in Oxford with a Ribbon Cutting Ceremony hosted by the Oxford-Lafayette County Chamber. ARCHIVE Oxford is a community of student apartments that offers the opportunity to live a standout life.
X-ALT-DESC;FMTTYPE=text/html:ARCHIVE Oxford will celebrate their&nbsp\;new business&nbsp\;in Oxford with a&nbsp\;Ribbon Cutting Ceremony hosted by the Oxford-Lafayette County Chamber. ARCHIVE Oxford is a&nbsp\;community of student&nbsp\;apartments that&nbsp\;offers the opportunity to live a standout life.<br />\n&nbsp\;
LOCATION:1000 ARCHIVE Circle\, Oxford\, MS
UID:e.1330.1847
SEQUENCE:3
DTSTAMP:20260425T165627Z
URL:https://business.oxfordms.com/events/details/archive-oxford-ribbon-cutting-ceremony-11-30-2017-1847
END:VEVENT

END:VCALENDAR
