BEGIN:VCALENDAR
VERSION:2.0
PRODID:-//ChamberMaster//Event Calendar 2.0//EN
METHOD:PUBLISH
X-PUBLISHED-TTL:P3D
REFRESH-INTERVAL:P3D
CALSCALE:GREGORIAN
BEGIN:VEVENT
DTSTART:20181102T203000Z
DTEND:20181102T210000Z
X-MICROSOFT-CDO-ALLDAYEVENT:FALSE
SUMMARY:Argent Financial Group Ribbon Cutting
DESCRIPTION:Ribbon Cutting Ceremony & Open House
X-ALT-DESC;FMTTYPE=text/html:<div class="MainText" style="caret-color: rgb(255\, 255\, 255)\; color: rgb(255\, 255\, 255)\; font-size: 14pt\; font-family: &quot\;Trebuchet MS&quot\;\, Verdana\, Helvetica\, sans-serif\;"><span style="color:#000000\;">Ribbon Cutting Ceremony &amp\; Open House&nbsp\;</span></div>\n\n<div class="MainText" style="caret-color: rgb(255\, 255\, 255)\; color: rgb(255\, 255\, 255)\; font-size: 14pt\; font-family: &quot\;Trebuchet MS&quot\;\, Verdana\, Helvetica\, sans-serif\;">&nbsp\;</div>\n
LOCATION:613 South Lamar Blvd
UID:e.1330.2847
SEQUENCE:3
DTSTAMP:20260424T224949Z
URL:https://business.oxfordms.com/events/details/argent-financial-group-ribbon-cutting-11-02-2018-2847
END:VEVENT

END:VCALENDAR
