BEGIN:VCALENDAR
VERSION:2.0
PRODID:-//ChamberMaster//Event Calendar 2.0//EN
METHOD:PUBLISH
X-PUBLISHED-TTL:P3D
REFRESH-INTERVAL:P3D
CALSCALE:GREGORIAN
BEGIN:VEVENT
DTSTART:20180407T220000Z
DTEND:20180408T010000Z
X-MICROSOFT-CDO-ALLDAYEVENT:FALSE
SUMMARY:Art by Melanie Munns at Oxford Treehouse Gallery
DESCRIPTION:The Oxford Treehouse Gallery and Event Venue will feature the art of Melanie Munns throughout the month of April. This exhibit\, titled PINK FICTION\, explores femininity and gender expectations with an emphasis on tradition. The opening reception will be on Saturday\, April 7th from 5-8 pm.
X-ALT-DESC;FMTTYPE=text/html:The Oxford Treehouse Gallery and Event Venue will feature the art of Melanie Munns throughout the month of April. This exhibit\, titled PINK FICTION\, explores femininity and gender expectations with an emphasis on tradition. The opening reception will be on Saturday\, April 7th from 5-8 pm.
LOCATION:Oxford Treehouse Gallery 328 C.R. 418 Oxford\, MS
UID:e.1330.1875
SEQUENCE:3
DTSTAMP:20260425T110103Z
URL:https://business.oxfordms.com/events/details/art-by-melanie-munns-at-oxford-treehouse-gallery-04-07-2018-1875
END:VEVENT

END:VCALENDAR
