BEGIN:VCALENDAR
VERSION:2.0
PRODID:-//ChamberMaster//Event Calendar 2.0//EN
METHOD:PUBLISH
X-PUBLISHED-TTL:P3D
REFRESH-INTERVAL:P3D
CALSCALE:GREGORIAN
BEGIN:VEVENT
DTSTART:20180726T200000Z
DTEND:20180726T220000Z
X-MICROSOFT-CDO-ALLDAYEVENT:FALSE
SUMMARY:B & B Concrete Company-Oxford Division Open House & Ribbon Cutting Ceremony
DESCRIPTION:The Oxford Division of B & B Concrete will celebrate their new offices in Oxford with a Ribbon Cutting Ceremony hosted by the Oxford-Lafayette County Chamber.\nTHE SUCCESS AND GROWTH OF B & B CONCRETE CO.\, INC. is an ongoing team effort. The strong work ethic and performance of both past and current employees have developed many loyal customer relationships.\n\nWe are thankful to our customers that we have the opportunity to serve. B & B Concrete Co.\, Inc. was incorporated in 1949 with the goal of making quality ready-mix concrete\, concrete pipe and precast concrete\, which is delivered with dependable service\, and the same goal continues today.  With careful attention to details\, we listen\, learn\, and share innovative product ideas with our customers and industry professionals.
X-ALT-DESC;FMTTYPE=text/html:The Oxford Division of B &amp\; B Concrete will celebrate their&nbsp\;new offices in Oxford with a&nbsp\;Ribbon Cutting Ceremony hosted by the Oxford-Lafayette County Chamber.\n<p>THE SUCCESS AND GROWTH OF B &amp\; B CONCRETE CO.\, INC. is an ongoing team effort. The strong work ethic and performance of both past and current employees have developed many loyal customer relationships.</p>\n\n<p>We are thankful to our customers that we have the opportunity to serve. B &amp\; B Concrete Co.\, Inc. was incorporated in 1949 with the goal of making quality ready-mix concrete\, concrete pipe and precast concrete\, which is delivered with dependable service\, and the same goal continues today.&nbsp\; With careful attention to details\, we listen\, learn\, and share innovative product ideas with our customers and industry professionals.</p>\n
LOCATION:463 CR 101\, Oxford\, MS
UID:e.1330.1889
SEQUENCE:3
DTSTAMP:20260425T035538Z
URL:https://business.oxfordms.com/events/details/b-b-concrete-company-oxford-division-open-house-ribbon-cutting-ceremony-07-26-2018-1889
END:VEVENT

END:VCALENDAR
