BEGIN:VCALENDAR
VERSION:2.0
PRODID:-//ChamberMaster//Event Calendar 2.0//EN
METHOD:PUBLISH
X-PUBLISHED-TTL:P3D
REFRESH-INTERVAL:P3D
CALSCALE:GREGORIAN
BEGIN:VEVENT
DTSTART:20171108T170000Z
DTEND:20171108T180000Z
X-MICROSOFT-CDO-ALLDAYEVENT:FALSE
SUMMARY:Baptist Memorial Hospital- North MS Unveiling and Pre-tour
DESCRIPTION:The Baptist Memorial Hospital-North Mississippi of Oxford will be hosting an unveiling and pre-tour of their new state of the art facility.The new facility will allow Baptist-North-Mississippi to provide even greater care to patients across its more than 100 medical and surgical specialists representing more than 30 specialty areas.
X-ALT-DESC;FMTTYPE=text/html:The Baptist Memorial Hospital-North Mississippi of Oxford will be hosting an unveiling and pre-tour of their new state of the art facility.The new facility will allow Baptist-North-Mississippi to provide even greater care to patients across its more than 100 medical and surgical specialists representing more than 30 specialty areas.
LOCATION:1100 Belk Boulevard\, Oxford\, MS
UID:e.1330.1836
SEQUENCE:3
DTSTAMP:20260425T184153Z
URL:https://business.oxfordms.com/events/details/baptist-memorial-hospital-north-ms-unveiling-and-pre-tour-11-08-2017-1836
END:VEVENT

END:VCALENDAR
