BEGIN:VCALENDAR
VERSION:2.0
PRODID:-//ChamberMaster//Event Calendar 2.0//EN
METHOD:PUBLISH
X-PUBLISHED-TTL:P3D
REFRESH-INTERVAL:P3D
CALSCALE:GREGORIAN
BEGIN:VEVENT
DTSTART:20200225T223000Z
DTEND:20200225T230000Z
X-MICROSOFT-CDO-ALLDAYEVENT:FALSE
SUMMARY:Baptist Outpatient Rehabilitation Ribbon Cutting Ceremony
DESCRIPTION:Baptist Outpatient Rehabilitation will celebrate their new business in Oxford with a Ribbon Cutting Ceremony hosted by the Oxford-Lafayette County Chamber.Recovering from surgery\, a minor injury or a chronic disease can take time and support. At Baptist Outpatient Rehabilitation\, we help our patients regain strength and independence through comprehensive rehabilitation. With programs like pelvic floor therapy\, spine and back treatments and dry needling\, we can tailor care to each patient's specific treatment needs.
X-ALT-DESC;FMTTYPE=text/html:<span style="font-size:14px\;"><span style="font-family:arial\;">Baptist Outpatient Rehabilitation will celebrate their&nbsp\;new business&nbsp\;in Oxford with a&nbsp\;Ribbon Cutting Ceremony hosted by the Oxford-Lafayette County Chamber.<span style="caret-color: rgb(74\, 74\, 74)\; color: rgb(74\, 74\, 74)\; background-color: rgb(255\, 255\, 255)\;">Recovering from surgery\, a minor injury or a chronic disease can take time and support. At Baptist Outpatient Rehabilitation\, we help our patients regain strength and independence through comprehensive rehabilitation. With programs like pelvic floor therapy\, spine and back treatments and dry needling\, we can tailor care to each patient&rsquo\;s specific treatment needs.</span></span></span>
LOCATION:Baptist Memorial Circle Suite 130 Medical Plaza\, Oxford
UID:e.1330.3171
SEQUENCE:3
DTSTAMP:20260423T223031Z
URL:https://business.oxfordms.com/events/details/baptist-outpatient-rehabilitation-ribbon-cutting-ceremony-02-25-2020-3171
END:VEVENT

END:VCALENDAR
