BEGIN:VCALENDAR
VERSION:2.0
PRODID:-//ChamberMaster//Event Calendar 2.0//EN
METHOD:PUBLISH
X-PUBLISHED-TTL:P3D
REFRESH-INTERVAL:P3D
CALSCALE:GREGORIAN
BEGIN:VEVENT
DTSTART:20170406T150000Z
DTEND:20170406T153000Z
X-MICROSOFT-CDO-ALLDAYEVENT:FALSE
SUMMARY:Barnes and Noble Ribbon Cutting Ceremony
DESCRIPTION:Barnes and Noble will celebrate their new business in Oxford with a Ribbon Cutting Ceremony hosted by the Oxford-Lafayette County Chamber. Barnes and Noble is a bookstore that offers textbooks and other literary works\, apparel\, and electronics.
X-ALT-DESC;FMTTYPE=text/html:Barnes and Noble&nbsp\;will celebrate their&nbsp\;new business in Oxford with&nbsp\;a&nbsp\;Ribbon Cutting Ceremony hosted by the Oxford-Lafayette County Chamber. Barnes and Noble is a bookstore that offers textbooks and other literary works\, apparel\, and electronics.
LOCATION:1111 West Jackson Ave\, Oxford Located next to the Malco by JC Penny's
UID:e.1330.1508
SEQUENCE:3
DTSTAMP:20260426T041639Z
URL:https://business.oxfordms.com/events/details/barnes-and-noble-ribbon-cutting-ceremony-04-06-2017-1508
END:VEVENT

END:VCALENDAR
