BEGIN:VCALENDAR
VERSION:2.0
PRODID:-//ChamberMaster//Event Calendar 2.0//EN
METHOD:PUBLISH
X-PUBLISHED-TTL:P3D
REFRESH-INTERVAL:P3D
CALSCALE:GREGORIAN
BEGIN:VEVENT
DTSTART:20200426T003000Z
DTEND:20200426T013000Z
X-MICROSOFT-CDO-ALLDAYEVENT:FALSE
SUMMARY:Blues on the Porch Concert Series
DESCRIPTION:Blues on the Porch is a new summer series that brings Hill Country Blues musicians home to Holly Springs for monthly evening concerts. Each concert is on the porch of a local antebellum home and open to the public at no cost. Gates open at 7:00\, the musicians play from 7:30-8:30. Concertgoers are free to spread out on the lawn around the porch and are encouraged to bring their own chairs\, blankets and picnics. The kickoff concert in April is Duwayne Burnside.
X-ALT-DESC;FMTTYPE=text/html:Blues on the Porch is a new summer series that brings Hill Country Blues musicians home to Holly Springs for monthly evening concerts. Each concert is on the porch of a local antebellum home and open to the public at no cost. Gates open at 7:00\, the musicians play from 7:30-8:30. Concertgoers are free to spread out on the lawn around the porch and are encouraged to bring their own chairs\, blankets and picnics. The kickoff concert in April is Duwayne Burnside.
LOCATION:217 Craft St.\, Holly Springs\, MS 38635
UID:e.1330.3183
SEQUENCE:3
DTSTAMP:20260424T233315Z
URL:https://business.oxfordms.com/events/details/blues-on-the-porch-concert-series-04-25-2020-3183
END:VEVENT

END:VCALENDAR
