BEGIN:VCALENDAR
VERSION:2.0
PRODID:-//ChamberMaster//Event Calendar 2.0//EN
METHOD:PUBLISH
X-PUBLISHED-TTL:P3D
REFRESH-INTERVAL:P3D
CALSCALE:GREGORIAN
BEGIN:VEVENT
DTSTART:20191008T130000Z
DTEND:20191008T143000Z
X-MICROSOFT-CDO-ALLDAYEVENT:FALSE
SUMMARY:BNI Weekly Meeting
DESCRIPTION:Business Network International (BNI) is an organization which is "the world's largest referral organization" with over 185\,000 members worldwide. BNI is in over 60 countries worldwide. BNI was founded in 1985 by Dr. Ivan Misner "for the primary purpose of building powerful referral networks". \n\n\n\nBNI draws a distinction between a "referral" and a "lead." A lead is contact information for a prospect for a member's business\, while a referral occurs only when the prospect has already expressed interest in the business in question\, and is ready to be contacted by the referred BNI member.
X-ALT-DESC;FMTTYPE=text/html:<p><b>Business Network International</b> (<b>BNI</b>) is an organization which is &quot\;the world&#39\;s largest referral organization&quot\; with over 185\,000 members worldwide.<sup><font color="#0066cc" size="2"> </font></sup>BNI is in over 60 countries worldwide.<sup><font color="#0066cc" size="2"> </font></sup>BNI was founded in 1985 by <a href="https://en.wikipedia.org/wiki/Ivan_Misner" title="Ivan Misner"><font color="#0066cc">Dr. Ivan Misner</font></a> &quot\;for the primary purpose of building powerful referral networks&quot\;.<sup><font color="#0066cc" size="2"> </font></sup><br />\n<br />\nBNI draws a distinction between a &quot\;referral&quot\; and a &quot\;lead.&quot\; A lead is contact information for a prospect for a member&#39\;s business\, while a referral occurs only when the prospect has already expressed interest in the business in question\, and is ready to be contacted by the referred BNI member.</p>\n
LOCATION:Oxford University Club\, 300 North Lamar
UID:e.1330.1402
SEQUENCE:3
DTSTAMP:20260424T051947Z
URL:https://business.oxfordms.com/events/details/bni-weekly-meeting-10-08-2019-1402
END:VEVENT

END:VCALENDAR
