BEGIN:VCALENDAR
VERSION:2.0
PRODID:-//ChamberMaster//Event Calendar 2.0//EN
METHOD:PUBLISH
X-PUBLISHED-TTL:P3D
REFRESH-INTERVAL:P3D
CALSCALE:GREGORIAN
BEGIN:VEVENT
DTSTART:20171128T173000Z
DTEND:20171128T180000Z
X-MICROSOFT-CDO-ALLDAYEVENT:FALSE
SUMMARY:Board and Brush Creative Studio Ribbon Cutting Ceremony
DESCRIPTION:Board and Brush Creative Studio will celebrate their new business in Oxford with a Ribbon Cutting Ceremony hosted by the Oxford-Lafayette County Chamber. Board and Brush Creative Studio is your place to build on-trend\, farmhouse-classic\, inspirational pieces of d cor for your home\, office\, or cabin.
X-ALT-DESC;FMTTYPE=text/html:Board and Brush Creative Studio will celebrate their&nbsp\;new business&nbsp\;in Oxford with a&nbsp\;Ribbon Cutting Ceremony hosted by the Oxford-Lafayette County Chamber. Board and Brush Creative Studio is your place to build on-trend\, farmhouse-classic\, inspirational pieces of d&eacute\;cor for your home\, office\, or cabin.<br />\n&nbsp\;
LOCATION:1525 University Ave\, Oxford\, MS
UID:e.1330.1843
SEQUENCE:3
DTSTAMP:20260425T174500Z
URL:https://business.oxfordms.com/events/details/board-and-brush-creative-studio-ribbon-cutting-ceremony-11-28-2017-1843
END:VEVENT

END:VCALENDAR
