BEGIN:VCALENDAR
VERSION:2.0
PRODID:-//ChamberMaster//Event Calendar 2.0//EN
METHOD:PUBLISH
X-PUBLISHED-TTL:P3D
REFRESH-INTERVAL:P3D
CALSCALE:GREGORIAN
BEGIN:VEVENT
DTSTART:20171001T180000Z
DTEND:20171001T210000Z
X-MICROSOFT-CDO-ALLDAYEVENT:FALSE
SUMMARY:Board & Brush Grand Opening
DESCRIPTION:Join us for appetizers\, drinks and a fun afternoon at our Board & Brush Oxford\n\nGRAND OPENING on Sunday\, October 1st from 1 - 4 pm!  \n\nWe can't wait for you to see some of the stylish projects you can create at our workshops!\n\nThe first 50 guests into the studio will receive a Swag Bag full of Board & Brush goodies and all attendees will receive a $10 off coupon good for their first workshop.  One lucky winner will receive a VIP PRIVATE PARTY for 10! Other raffle prizes will include additional FREE workshops\, merchandise and more!  Grab your friends and swing by our NEW Board & Brush Creative Studio!  We look forward to seeing you there!
X-ALT-DESC;FMTTYPE=text/html:<p style="text-align: center\;"><span style="color: rgb(255\, 0\, 0)\;">Join us for appetizers\, drinks and a fun afternoon</span> at our Board &amp\; Brush Oxford<br />\n<strong>GRAND OPENING on Sunday\, October 1st from 1 - 4 pm!&nbsp\; </strong><br />\nWe can&#39\;t wait for you to see some of&nbsp\;the stylish projects you can create at our workshops!<br />\n<span style="color: rgb(255\, 0\, 0)\;">The first 50 guests into the studio will receive a Swag Bag</span> full of Board &amp\; Brush goodies and all attendees will receive a $10 off coupon good for their first workshop.&nbsp\; One lucky winner will receive a <span style="color: rgb(255\, 0\, 0)\;">VIP PRIVATE PARTY for 10!</span> Other raffle prizes will include additional FREE workshops\, merchandise and more!&nbsp\; Grab your friends and swing by our <span style="color: rgb(255\, 0\, 0)\;">NEW</span> Board &amp\; Brush Creative Studio!&nbsp\; We look forward to seeing you there!</p>\n
LOCATION:1525 University Avenue Oxford\, MS 38655 Corner Mall shopping center
UID:e.1330.1802
SEQUENCE:3
DTSTAMP:20260425T183728Z
URL:https://business.oxfordms.com/events/details/board-brush-grand-opening-10-01-2017-1802
END:VEVENT

END:VCALENDAR
