BEGIN:VCALENDAR
VERSION:2.0
PRODID:-//ChamberMaster//Event Calendar 2.0//EN
METHOD:PUBLISH
X-PUBLISHED-TTL:P3D
REFRESH-INTERVAL:P3D
CALSCALE:GREGORIAN
BEGIN:VEVENT
DTSTART:20180919T160000Z
DTEND:20180920T043000Z
X-MICROSOFT-CDO-ALLDAYEVENT:FALSE
SUMMARY:Brick & Spoon Ribbon Cutting Ceremony
DESCRIPTION:Brick & Spoon will celebrate their new business in Oxford with a Ribbon Cutting Ceremony hosted by the Oxford-Lafayette County Chamber.\n\n\n\nBrick & Spoon serves a complete\, high-quality southern experience for those who want accessible\, and upscale breakfast\, brunch\, and lunch dining. Completely sophisticated yet totally casual\, our menu features hearty breakfast and lunch fare paired with deliciously unique cocktails and built-to-order bloody marys.
X-ALT-DESC;FMTTYPE=text/html:Brick &amp\; Spoon&nbsp\;will celebrate their&nbsp\;new business&nbsp\;in Oxford with a&nbsp\;Ribbon Cutting Ceremony hosted by the Oxford-Lafayette County Chamber.<br />\n<br />\n<span style="font-size: 14px\;"><span style="line-height: 1.5em\;"><span style="color: rgb(94\, 60\, 23)\;"><span style="font-family: open sans\,sans-serif\;">Brick &amp\; Spoon serves a complete\, high-quality southern experience for those who want accessible\, and upscale breakfast\, brunch\, and lunch dining. Completely sophisticated yet totally casual\, our menu features hearty breakfast and lunch fare paired with deliciously unique cocktails and built-to-order bloody marys.</span></span></span></span><br />\n&nbsp\;
LOCATION:1801 West Jackson Ave.
UID:e.1330.2781
SEQUENCE:3
DTSTAMP:20260425T003657Z
URL:https://business.oxfordms.com/events/details/brick-spoon-ribbon-cutting-ceremony-09-19-2018-2781
END:VEVENT

END:VCALENDAR
