BEGIN:VCALENDAR
VERSION:2.0
PRODID:-//ChamberMaster//Event Calendar 2.0//EN
METHOD:PUBLISH
X-PUBLISHED-TTL:P3D
REFRESH-INTERVAL:P3D
CALSCALE:GREGORIAN
BEGIN:VEVENT
DTSTART:20170427T213000Z
DTEND:20170427T233000Z
X-MICROSOFT-CDO-ALLDAYEVENT:FALSE
SUMMARY:Brooks Collection Open House
DESCRIPTION:Brooks Collection is celebrating their newly renovated store with an Open House / After Hours hosted by the Oxford-Lafayette County Chamber. Come and enjoy food\, drinks and door prizes! Brooks Collection's mission is to help individuals acquire high-end\, designer jewelry at unbeatable prices.The Brooks Collection carries engagement and wedding rings as well as all of your diamond needs in bracelets\, earrings and necklaces.
X-ALT-DESC;FMTTYPE=text/html:Brooks Collection is&nbsp\;celebrating their newly renovated store with&nbsp\;an Open House / After Hours hosted by the Oxford-Lafayette County Chamber. Come and enjoy food\, drinks and door prizes! Brooks Collection&#39\;s mission is to help individuals acquire high-end\, designer jewelry at unbeatable prices.The Brooks Collection carries engagement and wedding rings as well as all of your diamond needs in bracelets\, earrings and necklaces.
LOCATION:127 Courthouse Square\, Oxford
UID:e.1330.1511
SEQUENCE:3
DTSTAMP:20260426T041445Z
URL:https://business.oxfordms.com/events/details/brooks-collection-open-house-04-27-2017-1511
END:VEVENT

END:VCALENDAR
