BEGIN:VCALENDAR
VERSION:2.0
PRODID:-//ChamberMaster//Event Calendar 2.0//EN
METHOD:PUBLISH
X-PUBLISHED-TTL:P3D
REFRESH-INTERVAL:P3D
CALSCALE:GREGORIAN
BEGIN:VEVENT
DTSTART:20190202T160000Z
DTEND:20190202T170000Z
X-MICROSOFT-CDO-ALLDAYEVENT:FALSE
SUMMARY:Buie Babies Museum Stroller Tour
DESCRIPTION:SATURDAY\, FEBRUARY 2\, 2019\n\n10:00 11:00 a.m.\n\nThe University of Mississippi Museum\n\nCOST: FREE!\n\nAges: 0 2\n\nFamilies with babies and toddlers\, join us for our next Museum Stroller Tour\, a partnership with the LOU Excel By 5 Coalition. We will have a baby/toddler play-and-snack time using toys from our local Eb5 Lending Library.
X-ALT-DESC;FMTTYPE=text/html:<p><strong>SATURDAY\, FEBRUARY 2\, 2019</strong><br />\n10:00&ndash\;11:00 a.m.</p>\n\n<p>The University of Mississippi Museum</p>\n\n<h3><strong>COST:</strong>&nbsp\;FREE!</h3>\n\n<p>Ages: 0&ndash\;2</p>\n\n<p>Families with babies and toddlers\, join us for our next Museum Stroller Tour\, a partnership with the LOU Excel By 5 Coalition. We will have a baby/toddler play-and-snack time using toys from our local Eb5 Lending Library.</p>\n
LOCATION:University of Mississippi Museum University Ave. & 5th St. Oxford\, MS
UID:e.1330.2810
SEQUENCE:3
DTSTAMP:20260424T155951Z
URL:https://business.oxfordms.com/events/details/buie-babies-museum-stroller-tour-02-02-2019-2810
END:VEVENT

END:VCALENDAR
