BEGIN:VCALENDAR
VERSION:2.0
PRODID:-//ChamberMaster//Event Calendar 2.0//EN
METHOD:PUBLISH
X-PUBLISHED-TTL:P3D
REFRESH-INTERVAL:P3D
CALSCALE:GREGORIAN
BEGIN:VEVENT
DTSTART:20181115T220000Z
DTEND:20181115T223000Z
X-MICROSOFT-CDO-ALLDAYEVENT:FALSE
SUMMARY:Byrne Zizzi CPA\, PLLC Ribbon Cutting
DESCRIPTION:Byrne Zizzi CPA\, PLLC will celebrate their new business in Oxford with a Grand Opening & Ribbon Cutting Ceremony hosted by the Oxford-Lafayette County Chamber.\n\n\n\n \nByrne | Zizzi CPA is set apart by their dedication to building relationships with professional advisors\, from attorneys to investment advisors\, to arrive at the best\, holistic approach to your money management. Their accountants pride themselves on maintaining relationships with clients throughout the year. They take an active role in advising on personal and business finances between tax seasons\, keeping the books straight and the final filing process simple.
X-ALT-DESC;FMTTYPE=text/html:Byrne Zizzi CPA\, PLLC&nbsp\;will celebrate their&nbsp\;new business&nbsp\;in Oxford with a&nbsp\;Grand Opening &amp\; Ribbon Cutting Ceremony hosted by the Oxford-Lafayette County Chamber.<br />\n<br />\n&nbsp\;\n<p><span class="s1">Byrne | Zizzi CPA</span> is set apart by their dedication to building relationships with professional advisors\, from attorneys to investment advisors\, to arrive at the best\, holistic approach to your money management.&nbsp\;Their accountants pride themselves on maintaining relationships with clients throughout the year. They take an active role in advising on personal and business finances between tax seasons\, keeping the books straight and the final filing process simple.</p>\n
LOCATION:1204D Office Park Drive\, Oxford\, MS
UID:e.1330.2791
SEQUENCE:3
DTSTAMP:20260424T211026Z
URL:https://business.oxfordms.com/events/details/byrne-zizzi-cpa-pllc-ribbon-cutting-11-15-2018-2791
END:VEVENT

END:VCALENDAR
