BEGIN:VCALENDAR
VERSION:2.0
PRODID:-//ChamberMaster//Event Calendar 2.0//EN
METHOD:PUBLISH
X-PUBLISHED-TTL:P3D
REFRESH-INTERVAL:P3D
CALSCALE:GREGORIAN
BEGIN:VEVENT
DTSTART:20170418T153000Z
DTEND:20170418T160000Z
X-MICROSOFT-CDO-ALLDAYEVENT:FALSE
SUMMARY:Cardio Barre Ribbon Cutting Ceremony
DESCRIPTION:Cardio Barre will celebrate their new business in Oxford with Ribbon Cutting Ceremony hosted by the Oxford-Lafayette County Chamber. Cardio Barre is a unique\, high energy/no impact exercise class that combines barre work and light weights with continual fat burning motion.
X-ALT-DESC;FMTTYPE=text/html:Cardio Barre will celebrate their&nbsp\;new business in Oxford with Ribbon Cutting Ceremony hosted by the Oxford-Lafayette County Chamber. Cardio Barre is a unique\, high energy/no impact exercise class that combines barre work and light weights with continual fat burning motion.&nbsp\;<span style="text-align: center\; color: rgb(71\, 66\, 63)\; text-transform: none\; text-indent: 0px\; letter-spacing: normal\; font-family: Gilroy-Regular\; font-size: 14px\; font-style: normal\; font-weight: normal\; word-spacing: 0px\; float: none\; display: inline !important\; white-space: normal\; orphans: 2\; widows: 2\; background-color: rgb(250\, 250\, 250)\; font-variant-ligatures: normal\; font-variant-caps: normal\; -webkit-text-stroke-width: 0px\;"><span> </span></span>
LOCATION:3000 Old Taylor Road\, Suite A\, Oxford
UID:e.1330.1509
SEQUENCE:3
DTSTAMP:20260426T041716Z
URL:https://business.oxfordms.com/events/details/cardio-barre-ribbon-cutting-ceremony-04-18-2017-1509
END:VEVENT

END:VCALENDAR
