BEGIN:VCALENDAR
VERSION:2.0
PRODID:-//ChamberMaster//Event Calendar 2.0//EN
METHOD:PUBLISH
X-PUBLISHED-TTL:P3D
REFRESH-INTERVAL:P3D
CALSCALE:GREGORIAN
BEGIN:VEVENT
DTSTART:20180905T163000Z
DTEND:20180905T170000Z
X-MICROSOFT-CDO-ALLDAYEVENT:FALSE
SUMMARY:Castle & Cooke Mortgage Ribbon Cutting Ceremony
DESCRIPTION:Castle & Cooke Mortgage will celebrate their new business in Oxford with a Ribbon Cutting Ceremony hosted by the Oxford-Lafayette County Chamber.\n\n\n\nCastle & Cooke Mortgage aims to provide you with preeminent service. That means industry-leading funding times and a broad array of loan programs to meet the diverse needs of today's borrowers.
X-ALT-DESC;FMTTYPE=text/html:Castle &amp\; Cooke Mortgage&nbsp\;will celebrate their&nbsp\;new business&nbsp\;in Oxford with a&nbsp\;Ribbon Cutting Ceremony hosted by the Oxford-Lafayette County Chamber.<br />\n<br />\nCastle &amp\;&nbsp\;Cooke Mortgage aims to provide you with preeminent service. That means industry-leading funding times and a broad array of loan programs to meet the diverse needs of today&rsquo\;s borrowers.<br />\n&nbsp\;
LOCATION:829 South Lamar Blvd.
UID:e.1330.2779
SEQUENCE:3
DTSTAMP:20260425T021428Z
URL:https://business.oxfordms.com/events/details/castle-cooke-mortgage-ribbon-cutting-ceremony-09-05-2018-2779
END:VEVENT

END:VCALENDAR
