BEGIN:VCALENDAR
VERSION:2.0
PRODID:-//ChamberMaster//Event Calendar 2.0//EN
METHOD:PUBLISH
X-PUBLISHED-TTL:P3D
REFRESH-INTERVAL:P3D
CALSCALE:GREGORIAN
BEGIN:VEVENT
DTSTART:20220430T130000Z
DTEND:20220430T170000Z
X-MICROSOFT-CDO-ALLDAYEVENT:FALSE
SUMMARY:Cedar Oaks Guild Yard Sale
DESCRIPTION:The ladies of the Cedar Oaks Guild are having a Yard Sale on Saturday\, April 30th from 8:00 a.m. until 12:00 p.m. The sale will be held at the historic Cedar Oaks Mansion - 601 Murray Street. This event will happen rain or shine. Over 25 members have donated items to this sale. These items include furniture\, home goods\, books\, clothes\, etc. This is a fund raiser with the proceeds going to repair and reupholster some of our antique furniture.
X-ALT-DESC;FMTTYPE=text/html:The ladies of the Cedar Oaks Guild are having a Yard Sale on Saturday\, April 30th from 8:00 a.m. until 12:00 p.m. The sale will be held at the historic Cedar Oaks Mansion - 601 Murray Street. This event will happen rain or shine. Over 25 members have donated items to this sale. These items include furniture\, home goods\, books\, clothes\, etc. This is a fund raiser with the proceeds going to repair and reupholster some of our antique furniture.
LOCATION:Cedar Oaks Mansion 601 Murray Street
UID:e.1330.4164
SEQUENCE:3
DTSTAMP:20260421T163243Z
URL:https://business.oxfordms.com/events/details/cedar-oaks-guild-yard-sale-4164
END:VEVENT

END:VCALENDAR
