BEGIN:VCALENDAR
VERSION:2.0
PRODID:-//ChamberMaster//Event Calendar 2.0//EN
METHOD:PUBLISH
X-PUBLISHED-TTL:P3D
REFRESH-INTERVAL:P3D
CALSCALE:GREGORIAN
BEGIN:VEVENT
DTSTART:20181010T163000Z
DTEND:20181010T170000Z
X-MICROSOFT-CDO-ALLDAYEVENT:FALSE
SUMMARY:Century 21 Maselle and Associates Ribbon Cutting Ceremony
DESCRIPTION:Century 21 Maselle and Associates will celebrate their new business in Oxford with a Ribbon Cutting Ceremony hosted by the Oxford-Lafayette County Chamber.\n\n\n\nCENTURY 21 Maselle & Associates\, was founded in 1983\, and has over 33 years of experience facilitating the sale and purchase of real estate. Be it commercial developments\, lots\, raw land\, condos\, or single family homes\, their outstanding\, highly-trained agents have the know-how and experience to provide you with the service you deserve. As a full service real estate company\, with office locations from Central Mississippi all the way to West Tennessee\, they are ready and able to help you find exactly what you are looking for. In addition\, they offer services from their award-winning National Relocation Network\, and their exceptional Property Management Division.
X-ALT-DESC;FMTTYPE=text/html:Century 21 Maselle and Associates will celebrate their&nbsp\;new business&nbsp\;in Oxford with a Ribbon Cutting Ceremony hosted by the Oxford-Lafayette County Chamber.<br />\n<br />\nCENTURY 21 Maselle &amp\; Associates\, was founded in 1983\, and has over 33 years of experience facilitating the sale and purchase of real estate. Be it commercial developments\, lots\, raw land\, condos\, or single family homes\, their outstanding\, highly-trained agents have the know-how and experience to provide you with the service you deserve. As a full service real estate company\, with office locations from Central Mississippi all the way to West Tennessee\,&nbsp\;they are ready and able to help you find exactly what you are looking for. In addition\,&nbsp\;they offer services from&nbsp\;their award-winning National Relocation Network\, and their exceptional Property Management Division.<br />\n&nbsp\;
LOCATION:1403 Van Buren Suite B1
UID:e.1330.2785
SEQUENCE:3
DTSTAMP:20260424T225321Z
URL:https://business.oxfordms.com/events/details/century-21-maselle-and-associates-ribbon-cutting-ceremony-10-10-2018-2785
END:VEVENT

END:VCALENDAR
