BEGIN:VCALENDAR
VERSION:2.0
PRODID:-//ChamberMaster//Event Calendar 2.0//EN
METHOD:PUBLISH
X-PUBLISHED-TTL:P3D
REFRESH-INTERVAL:P3D
CALSCALE:GREGORIAN
BEGIN:VEVENT
DTSTART:20190301T173000Z
DTEND:20190301T190000Z
X-MICROSOFT-CDO-ALLDAYEVENT:FALSE
SUMMARY:Chamber 101
DESCRIPTION:Are you taking advantage of YOUR  membership benefits?\n\nAttention all new members and members who want  to get the most out of their membership!\n\nThe Oxford-Lafayette County Chamber of Commerce will be hosting a FREE Chamber 101 luncheon to go overall your Chamber benefits and go into detail about some options you might be interested in with our web benefits.  Are you missing out on membership benefits you might not know about?  Let us help you grow your business as a member!
X-ALT-DESC;FMTTYPE=text/html:<div style="color: rgb(0\, 0\, 0)\; font-family:\; font-size: 16px\; caret-color: rgb(0\, 0\, 0)\;" trebuchet=""><span style="font-size: 14px\;"><span style="font-family: arial\;"><strong>Are you taking advantage of YOUR &nbsp\;membership benefits?</strong></span></span></div>\n\n<div style="color: rgb(0\, 0\, 0)\; font-family:\; font-size: 16px\; caret-color: rgb(0\, 0\, 0)\;" trebuchet=""><span style="font-size: 14px\;"><span style="font-family: arial\;">Attention all new members and members who want &nbsp\;to get the most out of their membership!</span></span></div>\n\n<div style="color: rgb(0\, 0\, 0)\; font-family:\; font-size: 16px\; caret-color: rgb(0\, 0\, 0)\;" trebuchet=""><span style="font-size: 10px\;"><span style="font-family: arial\;"><span style="font-size: 14px\;">The Oxford-Lafayette County Chamber of Commerce will be hosting a FREE Chamber 101 luncheon to go overall your&nbsp\;Chamber benefits and go into detail about some options you might</span> <span style="font-size: 14px\;">be&nbsp\;interested in with our web benefits</span>. <span style="font-size: 14px\;">&nbsp\;Are you missing out on membership benefits you might not know about? &nbsp\;Let us help you grow your business as a member!</span></span></span></div>\n
LOCATION:Chamber of Commerce Board Room\, 299 Jackson Avenue West Limited seating available.
UID:e.1330.3078
SEQUENCE:3
DTSTAMP:20260424T155118Z
URL:https://business.oxfordms.com/events/details/chamber-101-03-01-2019-3078
END:VEVENT

END:VCALENDAR
