BEGIN:VCALENDAR
VERSION:2.0
PRODID:-//ChamberMaster//Event Calendar 2.0//EN
METHOD:PUBLISH
X-PUBLISHED-TTL:P3D
REFRESH-INTERVAL:P3D
CALSCALE:GREGORIAN
BEGIN:VEVENT
DTSTART:20181207T173000Z
DTEND:20181207T190000Z
X-MICROSOFT-CDO-ALLDAYEVENT:FALSE
SUMMARY:Chamber 101
DESCRIPTION:Are you taking advantage of YOUR  membership benefits?\n\nAttention all new members and members who want  to get the most out of their membership!\n\nThe Oxford-Lafayette County Chamber of Commerce will be hosting a FREE Chamber 101 luncheon to go overall your Chamber benefits and go into detail about some options you might be interested in with our web benefits.  Are you missing out on membership benefits you might not know about?  Let us help you grow your business as a member!
X-ALT-DESC;FMTTYPE=text/html:<div style="caret-color: rgb(0\, 0\, 0)\; color: rgb(0\, 0\, 0)\; font-size: 16px\; font-family: " text-align:="" trebuchet=""><span style="font-size:10px\;"><span style="font-family:arial\;"><strong>Are you taking advantage of YOUR &nbsp\;membership benefits?</strong></span></span></div>\n\n<div style="caret-color: rgb(0\, 0\, 0)\; color: rgb(0\, 0\, 0)\; font-size: 16px\; font-family: " text-align:="" trebuchet=""><span style="font-size:10px\;"><span style="font-family:arial\;">Attention all new members and members who want &nbsp\;</span></span><span style="font-size:10px\;"><span style="font-family:arial\;">to get the most out of their membership!</span></span></div>\n\n<div style="caret-color: rgb(0\, 0\, 0)\; color: rgb(0\, 0\, 0)\; font-size: 16px\; font-family: " text-align:="" trebuchet=""><span style="font-size:10px\;"><span style="font-family:arial\;">The Oxford-Lafayette County Chamber of Commerce will be hosting a FREE Chamber 101 luncheon to go overall your&nbsp\;Chamber benefits and go into detail about some options you might be&nbsp\;interested in with our web benefits. &nbsp\;Are you missing out on membership benefits you might not know about? &nbsp\;Let us help you grow your business as a member!</span></span></div>\n
LOCATION:Chamber of Commerce Board Room\, 299 Jackson Avenue West Limited seating available.
UID:e.1330.2848
SEQUENCE:3
DTSTAMP:20260424T192048Z
URL:https://business.oxfordms.com/events/details/chamber-101-12-07-2018-2848
END:VEVENT

END:VCALENDAR
