BEGIN:VCALENDAR
VERSION:2.0
PRODID:-//ChamberMaster//Event Calendar 2.0//EN
METHOD:PUBLISH
X-PUBLISHED-TTL:P3D
REFRESH-INTERVAL:P3D
CALSCALE:GREGORIAN
BEGIN:VEVENT
DTSTART:20190912T220000Z
DTEND:20190913T000000Z
X-MICROSOFT-CDO-ALLDAYEVENT:FALSE
SUMMARY:Chamber After Hours at Courtyard Marriott
DESCRIPTION:Join us as we celebrate the Rebels win against Arkansas! Wear BLUE! Monthly Chamber After Hours is a networking opportunity for our Chamber of Commerce members. New Chamber members are introduced and given a chance to highlight their businesses. Hosting opportunities are available exclusively to Chamber members.
X-ALT-DESC;FMTTYPE=text/html:<p style="margin: 0in 0in 6pt\;"><font face="arial\, sans-serif" size="3">Join us as we celebrate the Rebels win&nbsp\;against Arkansas! Wear BLUE!&nbsp\;Monthly Chamber After Hours is a&nbsp\;networking&nbsp\;opportunity for our Chamber of Commerce members. New Chamber members are&nbsp\;introduced and given a chance to highlight their businesses. Hosting opportunities are available exclusively to Chamber members.</font><br />\n&nbsp\;</p>\n
LOCATION:Courtyard Marriott 305 Jackson Ave. East
UID:e.1330.3132
SEQUENCE:3
DTSTAMP:20260424T064820Z
URL:https://business.oxfordms.com/events/details/chamber-after-hours-at-courtyard-marriott-09-12-2019-3132
END:VEVENT

END:VCALENDAR
