BEGIN:VCALENDAR
VERSION:2.0
PRODID:-//ChamberMaster//Event Calendar 2.0//EN
METHOD:PUBLISH
X-PUBLISHED-TTL:P3D
REFRESH-INTERVAL:P3D
CALSCALE:GREGORIAN
BEGIN:VEVENT
DTSTART:20180809T220000Z
DTEND:20180810T000000Z
X-MICROSOFT-CDO-ALLDAYEVENT:FALSE
SUMMARY:Chamber After Hours at Goose Creek Club
DESCRIPTION:Monthly Chamber After Hours is a networking opportunity for our Chamber of Commerce members. New Chamber members are introduced and given a chance to highlight their businesses. Hosting opportunities are available exclusively to Chamber members.
X-ALT-DESC;FMTTYPE=text/html:<p style="margin: 0in 0in 6pt"><span style="font-family: arial\, sans-serif"><span style="font-size: medium">Monthly Chamber After Hours is a&nbsp\;networking&nbsp\;opportunity for our Chamber of Commerce members. New Chamber members are&nbsp\;introduced and given a chance to highlight their businesses. Hosting opportunities are available exclusively to Chamber members.</span></span></p>\n
LOCATION:Goose Creek Club 218 Co Rd 162Oxford\, MS
UID:e.1330.1894
SEQUENCE:3
DTSTAMP:20260425T035519Z
URL:https://business.oxfordms.com/events/details/chamber-after-hours-at-goose-creek-club-08-09-2018-1894
END:VEVENT

END:VCALENDAR
