BEGIN:VCALENDAR
VERSION:2.0
PRODID:-//ChamberMaster//Event Calendar 2.0//EN
METHOD:PUBLISH
X-PUBLISHED-TTL:P3D
REFRESH-INTERVAL:P3D
CALSCALE:GREGORIAN
BEGIN:VEVENT
DTSTART:20181108T230000Z
DTEND:20181109T010000Z
X-MICROSOFT-CDO-ALLDAYEVENT:FALSE
SUMMARY:Chamber After Hours at Suthern Oasis Spa
DESCRIPTION:Join us for the Chamber's monthly networking social\, Chamber After Hours!
X-ALT-DESC;FMTTYPE=text/html:Join us for the Chamber&#39\;s monthly networking social\, Chamber After Hours!&nbsp\; &nbsp\;
LOCATION:Suthern Oasis Spa is hosting this month at their new location\, 281 Highway 7 South\, Oxford\, MS
UID:e.1330.2850
SEQUENCE:3
DTSTAMP:20260424T210654Z
URL:https://business.oxfordms.com/events/details/chamber-after-hours-at-suthern-oasis-spa-11-08-2018-2850
END:VEVENT

END:VCALENDAR
