BEGIN:VCALENDAR
VERSION:2.0
PRODID:-//ChamberMaster//Event Calendar 2.0//EN
METHOD:PUBLISH
X-PUBLISHED-TTL:P3D
REFRESH-INTERVAL:P3D
CALSCALE:GREGORIAN
BEGIN:VEVENT
DTSTART:20260319T220000Z
DTEND:20260320T000000Z
X-MICROSOFT-CDO-ALLDAYEVENT:FALSE
SUMMARY:Chamber After Hours Hosted by Cambridge Station Apartment Homes
DESCRIPTION:Monthly Chamber After Hours is a networking opportunity for our Chamber of Commerce members. New Chamber members are introduced and given a chance to highlight their businesses.  Hosting opportunities are available exclusively to Chamber members.
X-ALT-DESC;FMTTYPE=text/html:<div class="xdj266r x14z9mp xat24cr x1lziwak x1vvkbs" style="overflow-wrap: break-word\; margin-inline: 0px\; margin-bottom: 0px\; margin-top: 0px\; font-family: system-ui\, -apple-system\, &quot\;system-ui&quot\;\, &quot\;.SFNSText-Regular&quot\;\, sans-serif\; color: rgb(8\, 8\, 9)\; font-size: 15px\; background-color: rgb(255\, 255\, 255)\;"><span style="color: rgb(51\, 51\, 51)\; font-family: arial\, sans-serif\; background-color: rgb(255\, 255\, 255)\;">Monthly Chamber After Hours is a&nbsp\;networking&nbsp\;opportunity for our Chamber of Commerce members. New Chamber members are&nbsp\;introduced and given a chance to highlight their businesses.&nbsp\; Hosting opportunities are available exclusively to Chamber members.</span></div>\n
LOCATION:This month's After hours is hosted by Cambridge Station Apartment Homes located within their clubhouse at 801 Frontage Road.
UID:e.1330.4922
SEQUENCE:3
DTSTAMP:20260421T114200Z
URL:https://business.oxfordms.com/events/details/chamber-after-hours-hosted-by-cambridge-station-apartment-homes-4922
END:VEVENT

END:VCALENDAR
