BEGIN:VCALENDAR
VERSION:2.0
PRODID:-//ChamberMaster//Event Calendar 2.0//EN
METHOD:PUBLISH
X-PUBLISHED-TTL:P3D
REFRESH-INTERVAL:P3D
CALSCALE:GREGORIAN
BEGIN:VEVENT
DTSTART:20170608T220000Z
DTEND:20170609T000000Z
X-MICROSOFT-CDO-ALLDAYEVENT:FALSE
SUMMARY:Chamber After Hours hosted by Visit Oxford
DESCRIPTION:Monthly Chamber After Hours is a networking opportunity for our Chamber of Commerce members. New Chamber members are introduced and given a chance to highlight their businesses.  Hosting opportunities are available exclusively to Chamber members.
X-ALT-DESC;FMTTYPE=text/html:<p style="margin: 0in 0in 6pt\;"><span style="font-family: arial\, sans-serif\;"><span style="font-size: medium\;">Monthly Chamber After Hours is a&nbsp\;networking&nbsp\;opportunity for our Chamber of Commerce members. New Chamber members are&nbsp\;introduced and given a chance to highlight their businesses.&nbsp\; Hosting opportunities are available exclusively to Chamber members.</span></span></p>\n
LOCATION:This month's After Hours is hosted by Visit Oxford and will be held at 1013 Jackson Ave. East.
UID:e.1330.1777
SEQUENCE:3
DTSTAMP:20260426T010516Z
URL:https://business.oxfordms.com/events/details/chamber-after-hours-hosted-by-visit-oxford-06-08-2017-1777
END:VEVENT

END:VCALENDAR
