BEGIN:VCALENDAR
VERSION:2.0
PRODID:-//ChamberMaster//Event Calendar 2.0//EN
METHOD:PUBLISH
X-PUBLISHED-TTL:P3D
REFRESH-INTERVAL:P3D
CALSCALE:GREGORIAN
BEGIN:VEVENT
DTSTART:20181214T010000Z
DTEND:20181214T040000Z
X-MICROSOFT-CDO-ALLDAYEVENT:FALSE
SUMMARY:Chamber Christmas Cocktail Party
DESCRIPTION:Join us for Hors d'oeuvres and dancing!\n\nEach guest gets a complimentary drink\, plus cash bar available.  \n\nCocktail attire. \n\nDon't miss your chance to win the "Diamond" door prize sponsored by Steve Rose Jewelers.
X-ALT-DESC;FMTTYPE=text/html:Join us for Hors d&#39\;oeuvres and dancing!<br />\nEach guest gets a complimentary drink\, plus cash bar available. &nbsp\;<br />\nCocktail attire.&nbsp\;<br />\nDon&#39\;t miss your chance to win the &quot\;Diamond&quot\; door prize sponsored by Steve Rose Jewelers. &nbsp\;
LOCATION:Hosted at The Chancellor's House\, corner of University Avenue and South Lamar.
UID:e.1330.2849
SEQUENCE:3
DTSTAMP:20260424T192352Z
URL:https://business.oxfordms.com/events/details/chamber-christmas-cocktail-party-12-13-2018-2849
END:VEVENT

END:VCALENDAR
