BEGIN:VCALENDAR
VERSION:2.0
PRODID:-//ChamberMaster//Event Calendar 2.0//EN
METHOD:PUBLISH
X-PUBLISHED-TTL:P3D
REFRESH-INTERVAL:P3D
CALSCALE:GREGORIAN
BEGIN:VEVENT
DTSTART:20190227T103000Z
DTEND:20190227T230000Z
X-MICROSOFT-CDO-ALLDAYEVENT:FALSE
SUMMARY:Chipotle Mexican Grill Ribbon Cutting Ceremony
DESCRIPTION:Chipotle Mexican Grill will celebrate their business in Oxford with a Ribbon Cutting Ceremony hosted by the Oxford-Lafayette County Chamber. Chipotle Mexican Grill cares deeply about where their ingredients come from. While industrial farming practices have evolved to maximize profits and production\, they make an extra effort to partner with farmers\, ranchers\, and other suppliers whose practices emphasize quality and responsibility.
X-ALT-DESC;FMTTYPE=text/html:Chipotle Mexican Grill will celebrate their business in Oxford with&nbsp\;a&nbsp\;Ribbon Cutting Ceremony hosted by the Oxford-Lafayette County Chamber.&nbsp\;<span style="font-family:calibri\,sans-serif\;"><span style="font-size:11.0pt\;">Chipotle Mexican Grill cares deeply about where their ingredients come from. While industrial farming practices have evolved to maximize profits and production\, they make an extra effort to partner with farmers\, ranchers\, and other suppliers whose practices emphasize quality and responsibility.&nbsp\;</span></span>
LOCATION:2151 Jackson Ave.
UID:e.1330.3094
SEQUENCE:3
DTSTAMP:20260424T153612Z
URL:https://business.oxfordms.com/events/details/chipotle-mexican-grill-ribbon-cutting-ceremony-02-27-2019-3094
END:VEVENT

END:VCALENDAR
