BEGIN:VCALENDAR
VERSION:2.0
PRODID:-//ChamberMaster//Event Calendar 2.0//EN
METHOD:PUBLISH
X-PUBLISHED-TTL:P3D
REFRESH-INTERVAL:P3D
CALSCALE:GREGORIAN
BEGIN:VEVENT
DTSTART:20190823T163000Z
DTEND:20190823T170000Z
X-MICROSOFT-CDO-ALLDAYEVENT:FALSE
SUMMARY:Civil Axe Throwing Ribbon Chopping Ceremony
DESCRIPTION:Civil Axe Throwing will celebrate their new business in Oxford with a Ribbon Cutting Ceremony hosted by the Oxford-Lafayette County Chamber. Whether you're looking to channel your inner lumberjack or just try a fun and competitive hobby\, axe throwing is a one-of-a-kind sport that's taking North America by storm. Axe throwing is easy to learn (kinda like throwing darts\, but with axes!)\, and each aspect is designed with your fun and safety in mind. It's a perfect way to celebrate a special occasion\, organize a team building event\, or just have a great time with family and friends!
X-ALT-DESC;FMTTYPE=text/html:Civil Axe Throwing will celebrate their&nbsp\;new business in Oxford with&nbsp\;a&nbsp\;Ribbon Cutting Ceremony hosted by the Oxford-Lafayette County Chamber.&nbsp\;<span style="color:#08090e\;"><span style="font-family:arial\,sans-serif\;">Whether you&rsquo\;re looking to channel your inner lumberjack or just try a fun and competitive hobby\, axe throwing is a one-of-a-kind sport that&rsquo\;s taking North America by storm. Axe throwing is easy to learn (kinda like throwing darts\, but with axes!)\, and each aspect is designed with your fun and safety in mind. It&rsquo\;s a perfect way to celebrate a special occasion\, organize a team building event\, or just have a great time with family and friends!</span></span>
LOCATION:3000 Old Taylor Road\, Suite A Located next to My Michelle's
UID:e.1330.3119
SEQUENCE:3
DTSTAMP:20260424T052859Z
URL:https://business.oxfordms.com/events/details/civil-axe-throwing-ribbon-chopping-ceremony-08-23-2019-3119
END:VEVENT

END:VCALENDAR
