BEGIN:VCALENDAR
VERSION:2.0
PRODID:-//ChamberMaster//Event Calendar 2.0//EN
METHOD:PUBLISH
X-PUBLISHED-TTL:P3D
REFRESH-INTERVAL:P3D
CALSCALE:GREGORIAN
BEGIN:VEVENT
DTSTART:20190305T220000Z
DTEND:20190305T223000Z
X-MICROSOFT-CDO-ALLDAYEVENT:FALSE
SUMMARY:Coleman Funeral Home Ribbon Cutting Ceremony & Open House
DESCRIPTION:Coleman Funeral Home will celebrate their 15th Anniversary in Oxford with a Ribbon Cutting Ceremony hosted by the Oxford-Lafayette County Chamber of Commerce.\n\nFrom faith and tradition to logistics and expense\, the experience of honoring a loved one is different for every family. At Coleman Funeral Home\, their goal is to understand each family's particular needs and respond in a way that brings comfort\, closure\, and healing. They have facilities in Oxford\, Olive Branch\, and Southhaven - all located in North Mississippi. They strive to provide service that is unmatched in both quality and value.
X-ALT-DESC;FMTTYPE=text/html:<p><span style="font-size:14px\;"><span style="font-family:arial\;">Coleman Funeral Home will celebrate their 15th Anniversary in Oxford with&nbsp\;a&nbsp\;Ribbon Cutting Ceremony hosted by the Oxford-Lafayette County Chamber of Commerce.<br />\nFrom faith and tradition to logistics and expense\, the experience of honoring a loved one is different for every family. At Coleman Funeral Home\, their goal is to understand each family&#39\;s particular needs and respond in a way that brings comfort\, closure\, and healing. They have facilities in Oxford\, Olive Branch\, and Southhaven - all located in North Mississippi. They strive to provide service that is unmatched in both quality and value.</span></span></p>\n
LOCATION:601 Commerce Pkwy Just past the Dollar Store on Highway 7\, on leftside of road.
UID:e.1330.3095
SEQUENCE:3
DTSTAMP:20260424T135323Z
URL:https://business.oxfordms.com/events/details/coleman-funeral-home-ribbon-cutting-ceremony-open-house-03-05-2019-3095
END:VEVENT

END:VCALENDAR
