BEGIN:VCALENDAR
VERSION:2.0
PRODID:-//ChamberMaster//Event Calendar 2.0//EN
METHOD:PUBLISH
X-PUBLISHED-TTL:P3D
REFRESH-INTERVAL:P3D
CALSCALE:GREGORIAN
BEGIN:VEVENT
DTSTART:20181026T220000Z
DTEND:20181027T010000Z
X-MICROSOFT-CDO-ALLDAYEVENT:FALSE
SUMMARY:Come celebrate a “Historical Halloween!”
DESCRIPTION:Looking for a family-friendly alternative to ghosts and ghouls and haunted houses? Join Magnolia Montessori School for some not-so-scary fun at our fourth annual "Historical Halloween" carnival on October 26 at the Old Armory Pavilion (on the corner of Bramlett Boulevard and University Avenue)\, from 5 to 8pm. Kids will enjoy bounce houses\, an archeological dig\, a cookie walk\, crafts\, carnival games that celebrate historical figures\, and more! There will be a raffle for big prizes\, and the Kit Thorn Band will perform live. Wine\, beer\, cider\, pizza\, and other refreshments will be available for purchase. Costumes encouraged!\n\n\n\nTickets are $10/child\, $40 max/family\, and children under the age of one and parents get in free! Tickets may be purchased at the door\, but advanced purchase comes with two free raffle tickets. For more information or to purchase tickets\, contact Magnolia Montessori School at office@magnoliamontessorischool.com or call Edy at 662-380-2340.
X-ALT-DESC;FMTTYPE=text/html:<span style="color:rgb(0\, 0\, 0)\; font-family:arial\,sans-serif\; font-size:12px">Looking for a family-friendly alternative to ghosts and ghouls and haunted houses? Join Magnolia Montessori School for some not-so-scary fun at our fourth annual &ldquo\;Historical Halloween&rdquo\; carnival on October 26 at the Old Armory Pavilion (on the corner of Bramlett Boulevard and University Avenue)\, from 5 to 8pm. Kids will enjoy bounce houses\, an archeological dig\, a cookie walk\, crafts\, carnival games that celebrate historical figures\, and more! There will be a raffle for big prizes\, and the Kit Thorn Band will perform live. Wine\, beer\, cider\, pizza\, and other refreshments will be available for purchase. Costumes encouraged!</span><br />\n<br />\n<span style="color:rgb(0\, 0\, 0)\; font-family:arial\,sans-serif\; font-size:12px">Tickets are $10/child\, $40 max/family\, and children under the age of one and parents get in free! Tickets may be purchased at the door\, but advanced purchase comes with two free raffle tickets. For more information or to purchase tickets\, contact Magnolia Montessori School at&nbsp\;</span><a href="mailto:office@magnoliamontessorischool.com" style="color: purple\; font-family: Arial\, sans-serif\; font-size: 12px\;">office@magnoliamontessorischool.com</a><span style="color:rgb(0\, 0\, 0)\; font-family:arial\,sans-serif\; font-size:12px">&nbsp\;or call Edy at 662-380-2340.</span>
LOCATION:Old Armory Pavilion (on the corner of Bramlett Boulevard and University Avenue)
UID:e.1330.2793
SEQUENCE:3
DTSTAMP:20260424T224949Z
URL:https://business.oxfordms.com/events/details/come-celebrate-a-historical-halloween-10-26-2018-2793
END:VEVENT

END:VCALENDAR
