BEGIN:VCALENDAR
VERSION:2.0
PRODID:-//ChamberMaster//Event Calendar 2.0//EN
METHOD:PUBLISH
X-PUBLISHED-TTL:P3D
REFRESH-INTERVAL:P3D
CALSCALE:GREGORIAN
BEGIN:VEVENT
DTSTART:20181026T200000Z
DTEND:20181026T203000Z
X-MICROSOFT-CDO-ALLDAYEVENT:FALSE
SUMMARY:Counselor Education Clinic for Outreach and Personal Enrichment Ribbon Cutting Ceremony
DESCRIPTION:Counselor Education Clinic for Outreach and Personal Enrichment will celebrate their new business in Oxford Ribbon Cutting Ceremony hosted by the Oxford-Lafayette County Chamber.\n\n\n\nThe UM Counselor Education Clinic for Outreach and Personal Enrichment (COPE) provides counseling services to children\, adolescents\, college students and adults.  Services are provided by UM faculty members and graduate students enrolled in a counselor education program at The University of Mississippi.  Dr. Alex Kerwin serves as the Clinical Coordinator.
X-ALT-DESC;FMTTYPE=text/html:Counselor Education Clinic for Outreach and Personal Enrichment&nbsp\;will celebrate their&nbsp\;new business&nbsp\;in Oxford Ribbon Cutting Ceremony hosted by the Oxford-Lafayette County Chamber.<br />\n<br />\nThe UM Counselor Education Clinic for Outreach and Personal Enrichment (COPE) provides counseling services to children\, adolescents\, college students and adults.&nbsp\; Services are provided by UM faculty members and graduate students enrolled in a counselor education program at The University of Mississippi.&nbsp\; Dr. Alex Kerwin serves as the Clinical Coordinator.<br />\n<br />\n&nbsp\;
LOCATION:2301 S. Lamar Blvd
UID:e.1330.2786
SEQUENCE:3
DTSTAMP:20260424T225408Z
URL:https://business.oxfordms.com/events/details/counselor-education-clinic-for-outreach-and-personal-enrichment-ribbon-cutting-ceremony-10-26-2018-2786
END:VEVENT

END:VCALENDAR
