BEGIN:VCALENDAR
VERSION:2.0
PRODID:-//ChamberMaster//Event Calendar 2.0//EN
METHOD:PUBLISH
X-PUBLISHED-TTL:P3D
REFRESH-INTERVAL:P3D
CALSCALE:GREGORIAN
BEGIN:VEVENT
DTSTART:20170413T213000Z
DTEND:20170413T220000Z
X-MICROSOFT-CDO-ALLDAYEVENT:FALSE
SUMMARY:Coyote Blues Ribbon Cutting Ceremony
DESCRIPTION:Coyote Blues will celebrate their new business in Oxford with a Ribbon Cutting Ceremony hosted by the Oxford-Lafayette County Chamber. Coyote Blues serves dishes comprised of all fresh\, made in house ingredients with flavors inspired by Louisiana and Mexico.
X-ALT-DESC;FMTTYPE=text/html:Coyote Blues&nbsp\;will celebrate their&nbsp\;new business in Oxford with a&nbsp\;Ribbon Cutting Ceremony hosted by the Oxford-Lafayette County Chamber. Coyote Blues serves dishes comprised of all fresh\, made in house ingredients with flavors inspired by Louisiana and Mexico.
LOCATION:1202 Merchants Drive\, Oxford
UID:e.1330.1512
SEQUENCE:3
DTSTAMP:20260426T041728Z
URL:https://business.oxfordms.com/events/details/coyote-blues-ribbon-cutting-ceremony-04-13-2017-1512
END:VEVENT

END:VCALENDAR
