BEGIN:VCALENDAR
VERSION:2.0
PRODID:-//ChamberMaster//Event Calendar 2.0//EN
METHOD:PUBLISH
X-PUBLISHED-TTL:P3D
REFRESH-INTERVAL:P3D
CALSCALE:GREGORIAN
BEGIN:VEVENT
DTSTART:20191011T150000Z
DTEND:20191012T000000Z
X-MICROSOFT-CDO-ALLDAYEVENT:FALSE
SUMMARY:Deals Auto Repair presents 12th Annual EDF Golf Classic
DESCRIPTION:Deals Auto Repair presents The 12th Annual Oxford-Lafayette County Economic Development Foundation Golf Classic set for Friday\, October 11th at the Country Club of Oxford.\n\nThe Deals Auto Repair and EDF's Golf Classic is an 18-hole scramble featuring 112 players made-up of business professionals. Participants will enjoy a complimentary lunch sponsored by Oby's. In addition\, a great way to loosen you up for a great day of golf will be  a complimentary massage on a first come first serve bases with Licensed Massage Therapist\, Jennifer McMullen. The day will conclude with a cocktail award's ceremony.
X-ALT-DESC;FMTTYPE=text/html:<span style="font-size:12px\;"><span style="font-family:arial\;">Deals Auto Repair presents The 12<sup>th</sup> Annual Oxford-Lafayette County Economic Development Foundation Golf Classic set for Friday\, October 11th at the Country Club of Oxford.<br />\nThe Deals Auto Repair and EDF&rsquo\;s Golf Classic is an 18-hole scramble featuring 112 players made-up of business professionals. Participants will enjoy a complimentary lunch sponsored by Oby&#39\;s. In addition\, a great way to&nbsp\;loosen you up for a great day of golf will be &nbsp\;a&nbsp\;complimentary massage on a first come first serve bases with Licensed Massage Therapist\, Jennifer McMullen. The day will conclude with a cocktail award&rsquo\;s ceremony.&nbsp\;</span></span><br />\n&nbsp\;
LOCATION:The Country Club of Oxford\, 300 Fazio Drive
UID:e.1330.3129
SEQUENCE:3
DTSTAMP:20260424T053130Z
URL:https://business.oxfordms.com/events/details/deals-auto-repair-presents-12th-annual-edf-golf-classic-10-11-2019-3129
END:VEVENT

END:VCALENDAR
