BEGIN:VCALENDAR
VERSION:2.0
PRODID:-//ChamberMaster//Event Calendar 2.0//EN
METHOD:PUBLISH
X-PUBLISHED-TTL:P3D
REFRESH-INTERVAL:P3D
CALSCALE:GREGORIAN
BEGIN:VEVENT
DTSTART:20200314T150000Z
DTEND:20200314T163000Z
X-MICROSOFT-CDO-ALLDAYEVENT:FALSE
SUMMARY:Debt Free Life Seminar
DESCRIPTION:Do you have a mortgage? Credit card debt? Student loan debt? Car loans? Are you on track to be in debt for 20 to 30 years? \n\nWhat if... you could pay off your debt in 9 years or less\, including your home mortgage...without spending any more money than you are currently?\n\n \n\nFINANCIAL FREEDOM IS CLOSER THAN YOU THINK\n\n\n\nRegister for FREE today:\n\nEVENTBRITE.COM/\n\nDEBT-FREE-LIFE-SEMINAR-TICKETS-96929640163
X-ALT-DESC;FMTTYPE=text/html:<div style="text-align:center"><span style="font-size:14px"><strong><span style="color:#FF0000">Do you have a mortgage? Credit card debt? Student loan debt? Car loans? Are you on track to be in debt for 20 to 30 years?&nbsp\;</span></strong></span></div>\n\n<div style="text-align:center"><em><strong><span style="font-size:16px">What if...&nbsp\;</span>you could pay off your debt in 9 years or less\, including your home mortgage...without spending any more money than you are currently?</strong></em><br />\n&nbsp\;</div>\n\n<div style="text-align:center"><em><strong>FINANCIAL FREEDOM IS CLOSER THAN YOU THINK<br />\n<br />\nRegister for FREE today:<br />\nEVENTBRITE.COM/<br />\nDEBT-FREE-LIFE-SEMINAR-TICKETS-96929640163</strong></em><br />\n&nbsp\;</div>\n
LOCATION:Chamber of Commerce Conference Center 299 W Jackson Avenue
UID:e.1330.3191
SEQUENCE:3
DTSTAMP:20260423T192146Z
URL:https://business.oxfordms.com/events/details/debt-free-life-seminar-03-14-2020-3191
END:VEVENT

END:VCALENDAR
