BEGIN:VCALENDAR
VERSION:2.0
PRODID:-//ChamberMaster//Event Calendar 2.0//EN
METHOD:PUBLISH
X-PUBLISHED-TTL:P3D
REFRESH-INTERVAL:P3D
CALSCALE:GREGORIAN
BEGIN:VEVENT
DTSTART:20190226T173000Z
DTEND:20190226T180000Z
X-MICROSOFT-CDO-ALLDAYEVENT:FALSE
SUMMARY:DELTADOG Oxford Ribbon Cutting Ceremony
DESCRIPTION:DELTADOG Oxford will celebrate their new business in Oxford with a Ribbon Cutting Ceremony hosted by the Oxford-Lafayette County Chamber. DELTADOG is here to provide owners a peace of mind while giving dogs a home away from home. We make sure every person your dog comes in contact with are positive\, dog-loving\, caring individuals that love making positive impacts on your dog's life
X-ALT-DESC;FMTTYPE=text/html:DELTADOG Oxford will celebrate their&nbsp\;new business in Oxford with&nbsp\;a&nbsp\;Ribbon Cutting Ceremony hosted by the Oxford-Lafayette County Chamber.&nbsp\;DELTADOG is here to provide owners a peace of mind while giving dogs a home away from home. We make sure every person your dog comes in contact with are positive\, dog-loving\, caring individuals that love making positive impacts on your dog&#39\;s life
LOCATION:2008 University Ave. Suite C Located across from Kroger.
UID:e.1330.3093
SEQUENCE:3
DTSTAMP:20260424T155548Z
URL:https://business.oxfordms.com/events/details/deltadog-oxford-ribbon-cutting-ceremony-02-26-2019-3093
END:VEVENT

END:VCALENDAR
