BEGIN:VCALENDAR
VERSION:2.0
PRODID:-//ChamberMaster//Event Calendar 2.0//EN
METHOD:PUBLISH
X-PUBLISHED-TTL:P3D
REFRESH-INTERVAL:P3D
CALSCALE:GREGORIAN
BEGIN:VEVENT
DTSTART:20190430T220000Z
DTEND:20190501T010000Z
X-MICROSOFT-CDO-ALLDAYEVENT:FALSE
SUMMARY:Dinner with A Filmmaker
DESCRIPTION:On April 30 is "Dinner with A Filmmaker" at McAlister's from 5-8 pm with Hoka winner John Rash. Rash was the director of Best Music Documentary\, Negro Terror.\n\nJohn Rash is a photographer\, filmmaker and installation artist originally form North Carolina who earned his M.F.A. from Duke University in Experimental and Documentary Art. He has worked as a photo and video educator for more than 15 years in both the United States and China and creates work that explores cultural outsiders\, social issues\, and environmentalism. John's award winning films have been included in many international film festivals including Full Frame\, Brooklyn Film Festival\, Chicago Underground Film Festival\, Indie Memphis\, Indie Grits\, Green Film Festival in Seoul\, and the Shanghai International Film Festival. John currently works at the Center for the Study of Southern Culture at the University of Mississippi as Instructional Assistant Professor and Producer / Director for the Southern Documentary Project.\n\nWhen you attend McAlisters\, ask the cashier to keep your receipt for Oxford Film Festival for 20% donation to us.\n\nIf unable to eat\, stop by and drop a donation with the filmmakers to the festival at any time!
X-ALT-DESC;FMTTYPE=text/html:<p>On April 30 is &ldquo\;Dinner with A Filmmaker&rdquo\; at McAlister&rsquo\;s from 5-8 pm with Hoka winner John Rash. Rash was the director of Best Music Documentary\, Negro Terror.</p>\n\n<p><strong>John Rash is a photographer</strong>\,<strong> filmmaker and installation artist </strong>originally form North Carolina who earned his M.F.A. from Duke University in <a href="http://mfaeda.org/" style="color: rgb(132\, 56\, 6)\; text-decoration-line: none\; overflow-wrap: break-word\;" target="_blank">Experimental and Documentary Art</a>. He has worked as a photo and video educator for more than 15 years in both the United States and China and creates work that explores cultural outsiders\, social issues\, and environmentalism. John&rsquo\;s award winning films have been included in many international film festivals including Full Frame\, Brooklyn Film Festival\, Chicago Underground Film Festival\, Indie Memphis\, Indie Grits\, Green Film Festival in Seoul\, and the Shanghai International Film Festival.<strong><em> </em></strong>John currently works at the <a href="http://southernstudies.olemiss.edu/center-institutes/southern-documentary-projects/" style="color: rgb(132\, 56\, 6)\; text-decoration-line: none\; overflow-wrap: break-word\;" target="_blank">Center for the Study of Southern Cultur</a>e at the University of Mississippi as Instructional Assistant Professor and Producer / Director for the <a href="http://southdocs.org/" style="color: rgb(132\, 56\, 6)\; text-decoration-line: none\; overflow-wrap: break-word\;" target="_blank">Southern Documentary Project</a>.</p>\n\n<p>When you attend McAlisters\, ask the cashier to keep your receipt for Oxford Film Festival for 20% donation to us.</p>\n\n<p>If unable to eat\, stop by and drop a donation with the filmmakers to the festival at any time!</p>\n
LOCATION:1515 University Ave\, Oxford\, MS 38655
UID:e.1330.3099
SEQUENCE:3
DTSTAMP:20260424T135210Z
URL:https://business.oxfordms.com/events/details/dinner-with-a-filmmaker-04-30-2019-3099
END:VEVENT

END:VCALENDAR
