BEGIN:VCALENDAR
VERSION:2.0
PRODID:-//ChamberMaster//Event Calendar 2.0//EN
METHOD:PUBLISH
X-PUBLISHED-TTL:P3D
REFRESH-INTERVAL:P3D
CALSCALE:GREGORIAN
BEGIN:VEVENT
DTSTART:20220113T200000Z
DTEND:20220113T203000Z
X-MICROSOFT-CDO-ALLDAYEVENT:FALSE
SUMMARY:Direct Auto Insurance Ribbon Cutting Ceremony
DESCRIPTION:Direct Auto Insurance invites you to attend their Ribbon Cutting Ceremony hosted by the Oxford-Lafayette County Chamber. Come and welcome this new business to Oxford.
X-ALT-DESC;FMTTYPE=text/html:<span style="font-family:arial\;"><b>Direct Auto Insurance</b> invites you to attend their Ribbon Cutting Ceremony hosted by the Oxford-Lafayette County Chamber. Come and welcome this new business to Oxford.</span><br />\n<br />\n&nbsp\;
LOCATION:2530 Jackson Ave. West (Located inside of Walmart)
UID:e.1330.4137
SEQUENCE:3
DTSTAMP:20260421T213528Z
URL:https://business.oxfordms.com/events/details/direct-auto-insurance-ribbon-cutting-ceremony-4137
END:VEVENT

END:VCALENDAR
