BEGIN:VCALENDAR
VERSION:2.0
PRODID:-//ChamberMaster//Event Calendar 2.0//EN
METHOD:PUBLISH
X-PUBLISHED-TTL:P3D
REFRESH-INTERVAL:P3D
CALSCALE:GREGORIAN
BEGIN:VEVENT
DTSTART:20190514T220000Z
DTEND:20190515T020000Z
X-MICROSOFT-CDO-ALLDAYEVENT:FALSE
SUMMARY:Do Good with Burritos
DESCRIPTION:Join us at Chipolte for a fundraiser to support Oxford Film Festival & MS Critterz. Show your smart phone or bring in a flyer to show that you are supporting the cause. 33% of the proceeds will be donated to the Film Fest and MS Critterz.
X-ALT-DESC;FMTTYPE=text/html:Join us at Chipolte for a fundraiser to support Oxford Film Festival &amp\; MS Critterz. Show your smart phone or bring in a flyer to show that you are supporting the cause. 33% of the proceeds will be donated to the Film Fest and MS Critterz.
LOCATION:2151 Jackson Ave West
UID:e.1330.3108
SEQUENCE:3
DTSTAMP:20260424T123605Z
URL:https://business.oxfordms.com/events/details/do-good-with-burritos-05-14-2019-3108
END:VEVENT

END:VCALENDAR
