BEGIN:VCALENDAR
VERSION:2.0
PRODID:-//ChamberMaster//Event Calendar 2.0//EN
METHOD:PUBLISH
X-PUBLISHED-TTL:P3D
REFRESH-INTERVAL:P3D
CALSCALE:GREGORIAN
BEGIN:VEVENT
DTSTART;VALUE=DATE:20181015
DTEND;VALUE=DATE:20181018
TRANSP:TRANSPARENT
X-MICROSOFT-CDO-ALLDAYEVENT:TRUE
SUMMARY:Don't forget the catfish for your Ole Miss vs Auburn tailgate!
DESCRIPTION:Ole Miss vs Auburn - October 20 @ 11 AM\n\nOrders must be placed by 5:00PM Wednesday\, October 17 for Saturday's game. Since it's an early game\, orders can be placed with a pickup time up to 3PM so you can tailgate all afternoon with our freshest and tastiest southern specialties! \n\n- - - - -\n\nMuch has happened with Taylor Grocery Special Events Catering over the last year. We have become an approved and preferred food service provider at The Inn at Ole Miss! Now\, for the first time in many years\, you can easily enjoy "The South's Best Catfish"\, hush puppies\, hand-breaded chicken tenders\, and so much more in the Grove on game day! What exactly does that mean\, you ask? This means you'll be able to pick up your order on gameday at 120 Alumni Drive.... STEPS from the Grove!\n\n\n\nIn addition to this BIG news\, we've also made a specialized Tailgating Menu that is sure to please all! So\, if you're tired of the long walk to the Grove\, pulling a wagon loaded down with cold food prepared hours earlier\, make sure to visit our website\, www.taylorgrocerycatering.com\, and click on Tailgating to order the freshest and tastiest tailgating food. \n\nAs always\, feel free to give me a call with any questions you might have!\n\n \n\n- Butch Scott\n\nTaylor Grocery Special Events Catering\n\nwww.taylorgrocerycatering.com\n\n(662)801-9140\n\nLike us on Facebook!
X-ALT-DESC;FMTTYPE=text/html:<div style="text-align: center\;"><span style="font-family: georgia\,serif\;"><span style="font-size: 28px\;"><strong><span style="color: rgb(0\, 0\, 0)\;">Ole Miss vs Auburn - October 20 @ 11 AM</span></strong></span></span><br />\n<span style="font-size: 22px\;"><span style="color: rgb(0\, 0\, 255)\;"><span style="font-family: georgia\,serif\;">Orders must be placed by <strong>5:00PM Wednesday\, October 17</strong> for Saturday&#39\;s game. Since it&#39\;s an early game\, orders can be placed with a pickup time up to 3PM so you can tailgate all afternoon with our freshest and tastiest southern specialties! </span></span></span><br />\n<span style="font-size: 16px\;"><span style="font-family: georgia\,serif\;"><span style="color: rgb(0\, 0\, 0)\;">- - - - -<br />\nMuch has happened with Taylor Grocery Special Events Catering over the&nbsp\;last year. We have become an approved and preferred food service&nbsp\;provider&nbsp\;at The Inn at Ole Miss! Now\, for the first time in many years\, you can&nbsp\;easily&nbsp\;enjoy &quot\;The South&#39\;s Best Catfish&quot\;\, hush puppies\, hand-breaded chicken&nbsp\;tenders\, and so much more in the Grove on game day! What exactly does&nbsp\;that mean\, you ask? This means you&rsquo\;ll be able to pick&nbsp\;up your order on&nbsp\;gameday at 120 Alumni Drive.... STEPS from the Grove!<br />\n<br />\nIn addition to this BIG news\, we&rsquo\;ve also made a specialized Tailgating Menu&nbsp\;that is sure to please all! So\, if you&#39\;re tired of the long walk to the&nbsp\;Grove\,&nbsp\;pulling a wagon loaded down with cold food prepared hours earlier\, make&nbsp\;sure to visit our website\,&nbsp\;</span><a href="http://www.taylorgrocerycatering.com">www.taylorgrocerycatering.com</a><span style="color: rgb(0\, 0\, 0)\;">\, and&nbsp\;click on&nbsp\;Tailgating to order the freshest and tastiest tailgating food.&nbsp\;</span></span></span></div>\n\n<p style="text-align: center\;"><span style="color: rgb(0\, 0\, 0)\;"><span style="font-size: 16px\;"><span style="font-family: georgia\,serif\;">As always\, feel free to give me a call with any questions you might have!</span></span></span><br />\n&nbsp\;</p>\n\n<p style="text-align: center\;"><span style="font-size: 16px\;"><span style="font-family: georgia\,serif\;"><span style="color: rgb(0\, 0\, 0)\;"><strong>- Butch Scott</strong><br />\nTaylor Grocery Special Events Catering</span><br />\n<a href="http://www.taylorgrocerycatering.com" target="_blank">www.taylorgrocerycatering.com</a><br />\n<span style="color: rgb(0\, 0\, 0)\;">(662)801-9140</span></span></span></p>\n\n<p style="text-align: center\;"><span style="font-size: 16px\;"><span style="font-family: georgia\,serif\;"><a href="https://www.facebook.com/taylorgrocerycatering" target="_blank">Like us on Facebook!</a></span></span></p>\n
LOCATION:
UID:e.1330.2792
SEQUENCE:3
DTSTAMP:20260424T225257Z
URL:https://business.oxfordms.com/events/details/don-t-forget-the-catfish-for-your-ole-miss-vs-auburn-tailgate-10-15-2018-2792
END:VEVENT

END:VCALENDAR
