BEGIN:VCALENDAR
VERSION:2.0
PRODID:-//ChamberMaster//Event Calendar 2.0//EN
METHOD:PUBLISH
X-PUBLISHED-TTL:P3D
REFRESH-INTERVAL:P3D
CALSCALE:GREGORIAN
BEGIN:VEVENT
DTSTART:20181201T160000Z
DTEND:20181201T210000Z
X-MICROSOFT-CDO-ALLDAYEVENT:FALSE
SUMMARY:Doors of Hope Holiday House Tour 2018
DESCRIPTION:Take a walking tour and view the holiday decorations at six beautiful and unique homes in Oxford's North Lamar Historic District. Proceeds will benefit Doors of Hope Transition Ministries to help the homeless and at risk homeless find permanent housing\, employment\, and life skills. Tickets are $20 in advance and $25 at the door.
X-ALT-DESC;FMTTYPE=text/html:Take a walking tour and view the holiday decorations at six beautiful and unique homes in Oxford&#39\;s North Lamar Historic District. Proceeds will benefit Doors of Hope Transition Ministries to help the homeless and at risk homeless find permanent housing\, employment\, and life skills. Tickets are $20 in advance and $25 at the door.
LOCATION:Begin the tour at the LQC Lamar House to buy a ticket or pick up your guidebook.
UID:e.1330.2844
SEQUENCE:3
DTSTAMP:20260424T192623Z
URL:https://business.oxfordms.com/events/details/doors-of-hope-holiday-house-tour-2018-12-01-2018-2844
END:VEVENT

END:VCALENDAR
