BEGIN:VCALENDAR
VERSION:2.0
PRODID:-//ChamberMaster//Event Calendar 2.0//EN
METHOD:PUBLISH
X-PUBLISHED-TTL:P3D
REFRESH-INTERVAL:P3D
CALSCALE:GREGORIAN
BEGIN:VEVENT
DTSTART:20190414T003000Z
DTEND:20190414T003000Z
X-MICROSOFT-CDO-ALLDAYEVENT:FALSE
SUMMARY:Doubt: A Parable
DESCRIPTION:It's 1964\, and things are changing\, to the chagrin of rigid principal Sister Aloysius. But when an unconscionable accusation is leveled against Father Flynn\, she realizes that the only way to get justice is to create it herself. As for the truth of the matter? As Father Flynn says\, "Doubt can be a bond as powerful and sustaining as certainty."
X-ALT-DESC;FMTTYPE=text/html:It&rsquo\;s 1964\, and things are changing\, to the chagrin of rigid principal Sister Aloysius. But when an unconscionable accusation is leveled against Father Flynn\, she realizes that the only way to get justice is to create it herself. As for the truth of the matter? As Father Flynn says\, &ldquo\;Doubt can be a bond as powerful and sustaining as certainty.&rdquo\;
LOCATION:The Powerhouse 413 S. 14th St. Oxford\, MS 38655
UID:e.1330.3102
SEQUENCE:3
DTSTAMP:20260424T130426Z
URL:https://business.oxfordms.com/events/details/doubt-a-parable-04-13-2019-3102
END:VEVENT

END:VCALENDAR
