BEGIN:VCALENDAR
VERSION:2.0
PRODID:-//ChamberMaster//Event Calendar 2.0//EN
METHOD:PUBLISH
X-PUBLISHED-TTL:P3D
REFRESH-INTERVAL:P3D
CALSCALE:GREGORIAN
BEGIN:VEVENT
DTSTART:20191029T003000Z
DTEND:20191029T030000Z
X-MICROSOFT-CDO-ALLDAYEVENT:FALSE
SUMMARY:Drew Holcomb and the Neighbors
DESCRIPTION:Dragons tour with Birdtalker
X-ALT-DESC;FMTTYPE=text/html:Dragons tour with Birdtalker
LOCATION:Ford Center for Performing Arts
UID:e.1330.3130
SEQUENCE:3
DTSTAMP:20260424T052339Z
URL:https://business.oxfordms.com/events/details/drew-holcomb-and-the-neighbors-10-28-2019-3130
END:VEVENT

END:VCALENDAR
